View In:
ArcGIS JavaScript
ArcGIS Online Map Viewer
ArcGIS Earth
Service Description: The RasterRendering service is a multi-tenant raster rendering provider.
Name: Hosted/Toetly3Fire_2021_08_26_West_orthomosaic
Description:
Single Fused Map Cache: false
Extent:
XMin: 509940.6663059708
YMin: 5243988.94000787
XMax: 512588.80693077063
YMax: 5245590.95320307
Spatial Reference: 26911
(26911)
LatestVCSWkid(0)
Initial Extent:
XMin: 509940.6663059708
YMin: 5243988.94000787
XMax: 512588.80693077063
YMax: 5245590.95320307
Spatial Reference: 26911
(26911)
LatestVCSWkid(0)
Full Extent:
XMin: 509940.6663059708
YMin: 5243988.94000787
XMax: 512588.80693077063
YMax: 5245590.95320307
Spatial Reference: 26911
(26911)
LatestVCSWkid(0)
Pixel Size X: 0.09284879999999382
Pixel Size Y: 0.09284879999999374
Band Count: 6
Pixel Type: U16
RasterFunction Infos: {"rasterFunctionInfos": [{
"name": "None",
"description": "",
"help": ""
}]}
Mensuration Capabilities: Basic
Inspection Capabilities:
Has Histograms: true
Has Colormap: false
Has Multi Dimensions : false
Rendering Rule:
Min Scale: 0
Max Scale: 0
Copyright Text:
Service Data Type: esriImageServiceDataTypeGeneric
Min Values: 1, 1, 1, 1, 1, 65535
Max Values: 27262, 38228, 46248, 65535, 65535, 65535
Mean Values: 3088.268708286001, 5326.170928003288, 7470.681265961371, 9961.086146699707, 14778.52097393411, 65535
Standard Deviation Values: 1686.197186810297, 3113.161816253108, 4872.123450910951, 5785.201524094975, 7987.921036206163, 0
Object ID Field:
Fields:
None
Default Mosaic Method: Center
Allowed Mosaic Methods:
SortField:
SortValue: null
Mosaic Operator: First
Default Compression Quality: 75
Default Resampling Method: Bilinear
Max Record Count: null
Max Image Height: 4100
Max Image Width: 15000
Max Download Image Count: null
Max Mosaic Image Count: null
Allow Raster Function: true
Allow Copy: true
Allow Analysis: true
Allow Compute TiePoints: false
Supports Statistics: false
Supports Advanced Queries: false
Use StandardizedQueries: true
Raster Type Infos:
Name: Raster Dataset
Description: Supports all ArcGIS Raster Datasets
Help:
Has Raster Attribute Table: false
Edit Fields Info: null
Ownership Based AccessControl For Rasters: null
Child Resources:
Info
Histograms
Statistics
Key Properties
Legend
Raster Function Infos
Supported Operations:
Export Image
Identify
Compute Histograms
Compute Statistics Histograms
Get Samples
Compute Class Statistics
Query Boundary
Compute Pixel Location
Compute Angles
Validate
Project