{
 "currentVersion": 11.3,
 "serviceDescription": "The RasterRendering service is a multi-tenant raster rendering provider.",
 "name": "Hosted/Toetly3Fire_2021_08_26_West_orthomosaic",
 "description": "",
 "extent": {
  "xmin": 509940.6663059708,
  "ymin": 5243988.94000787,
  "xmax": 512588.80693077063,
  "ymax": 5245590.95320307,
  "spatialReference": {
   "wkid": 26911,
   "latestWkid": 26911
  }
 },
 "initialExtent": {
  "xmin": 509940.6663059708,
  "ymin": 5243988.94000787,
  "xmax": 512588.80693077063,
  "ymax": 5245590.95320307,
  "spatialReference": {
   "wkid": 26911,
   "latestWkid": 26911
  }
 },
 "fullExtent": {
  "xmin": 509940.6663059708,
  "ymin": 5243988.94000787,
  "xmax": 512588.80693077063,
  "ymax": 5245590.95320307,
  "spatialReference": {
   "wkid": 26911,
   "latestWkid": 26911
  }
 },
 "sortableFields": "",
 "bandCount": 6,
 "pixelType": "U16",
 "minValues": [
  1,
  1,
  1,
  1,
  1,
  65535
 ],
 "maxValues": [
  27262,
  38228,
  46248,
  65535,
  65535,
  65535
 ],
 "meanValues": [
  3088.268708286001,
  5326.170928003288,
  7470.681265961371,
  9961.086146699707,
  14778.52097393411,
  65535
 ],
 "stdvValues": [
  1686.197186810297,
  3113.161816253108,
  4872.123450910951,
  5785.201524094975,
  7987.921036206163,
  0
 ],
 "hasMultidimensions": false,
 "pixelSizeX": 0.09284879999999382,
 "pixelSizeY": 0.09284879999999374,
 "meanPixelSize": 0.09284879999999378,
 "datasetFormat": "Cache/LERC2D",
 "uncompressedSize": 5905216008,
 "blockWidth": 256,
 "blockHeight": 256,
 "compressionType": "LERC2D",
 "bandNames": [
  "Band_1",
  "Band_2",
  "Band_3",
  "Band_4",
  "Band_5",
  "Band_6"
 ],
 "allowCopy": true,
 "allowAnalysis": true,
 "itemAccess": false,
 "inspectionCapabilities": "",
 "minPixelSize": 0,
 "maxPixelSize": 0,
 "copyrightText": "",
 "serviceDataType": "esriImageServiceDataTypeGeneric",
 "serviceSourceType": "esriImageServiceSourceTypeDataset",
 "objectIdField": "",
 "fields": [],
 "capabilities": "Image, Metadata",
 "defaultMosaicMethod": "Center",
 "allowedMosaicMethods": "",
 "sortField": "",
 "sortValue": null,
 "sortAscending": true,
 "mosaicOperator": "First",
 "defaultCompressionQuality": 75,
 "defaultResamplingMethod": "Bilinear",
 "maxImageHeight": 4100,
 "maxImageWidth": 15000,
 "allowRasterFunction": true,
 "rasterFunctionInfos": [
  {
   "name": "None",
   "description": "",
   "help": ""
  }
 ],
 "rasterTypeInfos": [
  {
   "name": "Raster Dataset",
   "description": "Supports all ArcGIS Raster Datasets",
   "help": ""
  }
 ],
 "mensurationCapabilities": "Basic",
 "hasHistograms": true,
 "hasColormap": false,
 "hasRasterAttributeTable": false,
 "minScale": 0,
 "maxScale": 0,
 "exportTilesAllowed": false,
 "supportsStatistics": false,
 "supportsAdvancedQueries": false,
 "editFieldsInfo": null,
 "ownershipBasedAccessControlForRasters": null,
 "allowComputeTiePoints": false,
 "useStandardizedQueries": true,
 "advancedQueryCapabilities": {
  "useStandardizedQueries": true,
  "supportsStatistics": false,
  "supportsOrderBy": false,
  "supportsDistinct": false,
  "supportsPagination": false
 },
 "spatialReference": {
  "wkid": 26911,
  "latestWkid": 26911
 }
}
