View In:
ArcGIS JavaScript
ArcGIS Online Map Viewer
ArcGIS Earth
Service Description: The RasterRendering service is a multi-tenant raster rendering provider.
Name: Hosted/Toetly3Fire_2021_08_26_South_orthomosaic
Description:
Single Fused Map Cache: false
Extent:
XMin: 511087.7299519079
YMin: 5244074.372214129
XMax: 514083.1361019076
YMax: 5245535.987898129
Spatial Reference: 26911
(26911)
LatestVCSWkid(0)
Initial Extent:
XMin: 511087.7299519079
YMin: 5244074.372214129
XMax: 514083.1361019076
YMax: 5245535.987898129
Spatial Reference: 26911
(26911)
LatestVCSWkid(0)
Full Extent:
XMin: 511087.7299519079
YMin: 5244074.372214129
XMax: 514083.1361019076
YMax: 5245535.987898129
Spatial Reference: 26911
(26911)
LatestVCSWkid(0)
Pixel Size X: 0.10179799999998995
Pixel Size Y: 0.10179799999998913
Band Count: 6
Pixel Type: U16
RasterFunction Infos: {"rasterFunctionInfos": [{
"name": "None",
"description": "",
"help": ""
}]}
Mensuration Capabilities: Basic
Inspection Capabilities:
Has Histograms: true
Has Colormap: false
Has Multi Dimensions : false
Rendering Rule:
Min Scale: 0
Max Scale: 0
Copyright Text:
Service Data Type: esriImageServiceDataTypeGeneric
Min Values: 195, 32, 1, 2, 1, 65535
Max Values: 27053, 42073, 47646, 50642, 51056, 65535
Mean Values: 2585.9746326519885, 4254.5728924594105, 5651.584562832227, 8025.786936613775, 12689.18173902584, 65535
Standard Deviation Values: 1377.5801763881423, 2304.5447173255156, 3533.6081113763125, 4110.245202538109, 6151.498021462963, 0
Object ID Field:
Fields:
None
Default Mosaic Method: Center
Allowed Mosaic Methods:
SortField:
SortValue: null
Mosaic Operator: First
Default Compression Quality: 75
Default Resampling Method: Bilinear
Max Record Count: null
Max Image Height: 4100
Max Image Width: 15000
Max Download Image Count: null
Max Mosaic Image Count: null
Allow Raster Function: true
Allow Copy: true
Allow Analysis: true
Allow Compute TiePoints: false
Supports Statistics: false
Supports Advanced Queries: false
Use StandardizedQueries: true
Raster Type Infos:
Name: Raster Dataset
Description: Supports all ArcGIS Raster Datasets
Help:
Has Raster Attribute Table: false
Edit Fields Info: null
Ownership Based AccessControl For Rasters: null
Child Resources:
Info
Histograms
Statistics
Key Properties
Legend
Raster Function Infos
Supported Operations:
Export Image
Identify
Compute Histograms
Compute Statistics Histograms
Get Samples
Compute Class Statistics
Query Boundary
Compute Pixel Location
Compute Angles
Validate
Project