{
 "currentVersion": 11.3,
 "serviceDescription": "The RasterRendering service is a multi-tenant raster rendering provider.",
 "name": "Hosted/Toetly3Fire_2021_08_26_South_orthomosaic",
 "description": "",
 "extent": {
  "xmin": 511087.7299519079,
  "ymin": 5244074.372214129,
  "xmax": 514083.1361019076,
  "ymax": 5245535.987898129,
  "spatialReference": {
   "wkid": 26911,
   "latestWkid": 26911
  }
 },
 "initialExtent": {
  "xmin": 511087.7299519079,
  "ymin": 5244074.372214129,
  "xmax": 514083.1361019076,
  "ymax": 5245535.987898129,
  "spatialReference": {
   "wkid": 26911,
   "latestWkid": 26911
  }
 },
 "fullExtent": {
  "xmin": 511087.7299519079,
  "ymin": 5244074.372214129,
  "xmax": 514083.1361019076,
  "ymax": 5245535.987898129,
  "spatialReference": {
   "wkid": 26911,
   "latestWkid": 26911
  }
 },
 "sortableFields": "",
 "bandCount": 6,
 "pixelType": "U16",
 "minValues": [
  195,
  32,
  1,
  2,
  1,
  65535
 ],
 "maxValues": [
  27053,
  42073,
  47646,
  50642,
  51056,
  65535
 ],
 "meanValues": [
  2585.9746326519885,
  4254.5728924594105,
  5651.584562832227,
  8025.786936613775,
  12689.18173902584,
  65535
 ],
 "stdvValues": [
  1377.5801763881423,
  2304.5447173255156,
  3533.6081113763125,
  4110.245202538109,
  6151.498021462963,
  0
 ],
 "hasMultidimensions": false,
 "pixelSizeX": 0.10179799999998995,
 "pixelSizeY": 0.10179799999998913,
 "meanPixelSize": 0.10179799999998954,
 "datasetFormat": "Cache/LERC2D",
 "uncompressedSize": 5069809800,
 "blockWidth": 256,
 "blockHeight": 256,
 "compressionType": "LERC2D",
 "bandNames": [
  "Band_1",
  "Band_2",
  "Band_3",
  "Band_4",
  "Band_5",
  "Band_6"
 ],
 "allowCopy": true,
 "allowAnalysis": true,
 "itemAccess": false,
 "inspectionCapabilities": "",
 "minPixelSize": 0,
 "maxPixelSize": 0,
 "copyrightText": "",
 "serviceDataType": "esriImageServiceDataTypeGeneric",
 "serviceSourceType": "esriImageServiceSourceTypeDataset",
 "objectIdField": "",
 "fields": [],
 "capabilities": "Image, Metadata",
 "defaultMosaicMethod": "Center",
 "allowedMosaicMethods": "",
 "sortField": "",
 "sortValue": null,
 "sortAscending": true,
 "mosaicOperator": "First",
 "defaultCompressionQuality": 75,
 "defaultResamplingMethod": "Bilinear",
 "maxImageHeight": 4100,
 "maxImageWidth": 15000,
 "allowRasterFunction": true,
 "rasterFunctionInfos": [
  {
   "name": "None",
   "description": "",
   "help": ""
  }
 ],
 "rasterTypeInfos": [
  {
   "name": "Raster Dataset",
   "description": "Supports all ArcGIS Raster Datasets",
   "help": ""
  }
 ],
 "mensurationCapabilities": "Basic",
 "hasHistograms": true,
 "hasColormap": false,
 "hasRasterAttributeTable": false,
 "minScale": 0,
 "maxScale": 0,
 "exportTilesAllowed": false,
 "supportsStatistics": false,
 "supportsAdvancedQueries": false,
 "editFieldsInfo": null,
 "ownershipBasedAccessControlForRasters": null,
 "allowComputeTiePoints": false,
 "useStandardizedQueries": true,
 "advancedQueryCapabilities": {
  "useStandardizedQueries": true,
  "supportsStatistics": false,
  "supportsOrderBy": false,
  "supportsDistinct": false,
  "supportsPagination": false
 },
 "spatialReference": {
  "wkid": 26911,
  "latestWkid": 26911
 }
}
