View In:
ArcGIS JavaScript
ArcGIS Online Map Viewer
ArcGIS Earth
Service Description: The RasterRendering service is a multi-tenant raster rendering provider.
Name: Hosted/Toetly3Fire_2021_08_24_East_orthomosaic
Description:
Single Fused Map Cache: false
Extent:
XMin: 512936.93726466293
YMin: 5244538.090967485
XMax: 515295.4618146629
YMax: 5246896.615517485
Spatial Reference: 26911
(26911)
LatestVCSWkid(0)
Initial Extent:
XMin: 512936.93726466293
YMin: 5244538.090967485
XMax: 515295.4618146629
YMax: 5246896.615517485
Spatial Reference: 26911
(26911)
LatestVCSWkid(0)
Full Extent:
XMin: 512936.93726466293
YMin: 5244538.090967485
XMax: 515295.4618146629
YMax: 5246896.615517485
Spatial Reference: 26911
(26911)
LatestVCSWkid(0)
Pixel Size X: 0.13515899999999845
Pixel Size Y: 0.1351590000000118
Band Count: 6
Pixel Type: U16
RasterFunction Infos: {"rasterFunctionInfos": [{
"name": "None",
"description": "",
"help": ""
}]}
Mensuration Capabilities: Basic
Inspection Capabilities:
Has Histograms: true
Has Colormap: false
Has Multi Dimensions : false
Rendering Rule:
Min Scale: 0
Max Scale: 0
Copyright Text:
Service Data Type: esriImageServiceDataTypeGeneric
Min Values: 1, 1, 1, 1, 1, 65535
Max Values: 25319, 40942, 40142, 49072, 58249, 65535
Mean Values: 1244.188929941909, 2367.103594286525, 2632.6827647914038, 5626.742835042003, 11173.11885453076, 65535
Standard Deviation Values: 940.0462074741309, 1681.0604065965797, 2396.394018709196, 3732.566022093155, 6807.495944265136, 0
Object ID Field:
Fields:
None
Default Mosaic Method: Center
Allowed Mosaic Methods:
SortField:
SortValue: null
Mosaic Operator: First
Default Compression Quality: 75
Default Resampling Method: Bilinear
Max Record Count: null
Max Image Height: 4100
Max Image Width: 15000
Max Download Image Count: null
Max Mosaic Image Count: null
Allow Raster Function: true
Allow Copy: true
Allow Analysis: true
Allow Compute TiePoints: false
Supports Statistics: false
Supports Advanced Queries: false
Use StandardizedQueries: true
Raster Type Infos:
Name: Raster Dataset
Description: Supports all ArcGIS Raster Datasets
Help:
Has Raster Attribute Table: false
Edit Fields Info: null
Ownership Based AccessControl For Rasters: null
Child Resources:
Info
Histograms
Statistics
Key Properties
Legend
Raster Function Infos
Supported Operations:
Export Image
Identify
Compute Histograms
Compute Statistics Histograms
Get Samples
Compute Class Statistics
Query Boundary
Compute Pixel Location
Compute Angles
Validate
Project