{
 "currentVersion": 11.3,
 "serviceDescription": "The RasterRendering service is a multi-tenant raster rendering provider.",
 "name": "Hosted/Toetly3Fire_2021_08_24_East_orthomosaic",
 "description": "",
 "extent": {
  "xmin": 512936.93726466293,
  "ymin": 5244538.090967485,
  "xmax": 515295.4618146629,
  "ymax": 5246896.615517485,
  "spatialReference": {
   "wkid": 26911,
   "latestWkid": 26911
  }
 },
 "initialExtent": {
  "xmin": 512936.93726466293,
  "ymin": 5244538.090967485,
  "xmax": 515295.4618146629,
  "ymax": 5246896.615517485,
  "spatialReference": {
   "wkid": 26911,
   "latestWkid": 26911
  }
 },
 "fullExtent": {
  "xmin": 512936.93726466293,
  "ymin": 5244538.090967485,
  "xmax": 515295.4618146629,
  "ymax": 5246896.615517485,
  "spatialReference": {
   "wkid": 26911,
   "latestWkid": 26911
  }
 },
 "sortableFields": "",
 "bandCount": 6,
 "pixelType": "U16",
 "minValues": [
  1,
  1,
  1,
  1,
  1,
  65535
 ],
 "maxValues": [
  25319,
  40942,
  40142,
  49072,
  58249,
  65535
 ],
 "meanValues": [
  1244.188929941909,
  2367.103594286525,
  2632.6827647914038,
  5626.742835042003,
  11173.11885453076,
  65535
 ],
 "stdvValues": [
  940.0462074741309,
  1681.0604065965797,
  2396.394018709196,
  3732.566022093155,
  6807.495944265136,
  0
 ],
 "hasMultidimensions": false,
 "pixelSizeX": 0.13515899999999845,
 "pixelSizeY": 0.1351590000000118,
 "meanPixelSize": 0.13515900000000514,
 "datasetFormat": "Cache/LERC2D",
 "uncompressedSize": 3654030000,
 "blockWidth": 256,
 "blockHeight": 256,
 "compressionType": "LERC2D",
 "bandNames": [
  "Band_1",
  "Band_2",
  "Band_3",
  "Band_4",
  "Band_5",
  "Band_6"
 ],
 "allowCopy": true,
 "allowAnalysis": true,
 "itemAccess": false,
 "inspectionCapabilities": "",
 "minPixelSize": 0,
 "maxPixelSize": 0,
 "copyrightText": "",
 "serviceDataType": "esriImageServiceDataTypeGeneric",
 "serviceSourceType": "esriImageServiceSourceTypeDataset",
 "objectIdField": "",
 "fields": [],
 "capabilities": "Image, Metadata",
 "defaultMosaicMethod": "Center",
 "allowedMosaicMethods": "",
 "sortField": "",
 "sortValue": null,
 "sortAscending": true,
 "mosaicOperator": "First",
 "defaultCompressionQuality": 75,
 "defaultResamplingMethod": "Bilinear",
 "maxImageHeight": 4100,
 "maxImageWidth": 15000,
 "allowRasterFunction": true,
 "rasterFunctionInfos": [
  {
   "name": "None",
   "description": "",
   "help": ""
  }
 ],
 "rasterTypeInfos": [
  {
   "name": "Raster Dataset",
   "description": "Supports all ArcGIS Raster Datasets",
   "help": ""
  }
 ],
 "mensurationCapabilities": "Basic",
 "hasHistograms": true,
 "hasColormap": false,
 "hasRasterAttributeTable": false,
 "minScale": 0,
 "maxScale": 0,
 "exportTilesAllowed": false,
 "supportsStatistics": false,
 "supportsAdvancedQueries": false,
 "editFieldsInfo": null,
 "ownershipBasedAccessControlForRasters": null,
 "allowComputeTiePoints": false,
 "useStandardizedQueries": true,
 "advancedQueryCapabilities": {
  "useStandardizedQueries": true,
  "supportsStatistics": false,
  "supportsOrderBy": false,
  "supportsDistinct": false,
  "supportsPagination": false
 },
 "spatialReference": {
  "wkid": 26911,
  "latestWkid": 26911
 }
}
