View In:
ArcGIS JavaScript
ArcGIS Online Map Viewer
ArcGIS Earth
Service Description: The RasterRendering service is a multi-tenant raster rendering provider.
Name: Hosted/NAIP_2017
Description:
Single Fused Map Cache: false
Extent:
XMin: 490064.0
YMin: 5065988.0
XMax: 706996.0
YMax: 5435200.0
Spatial Reference: 26911
(26911)
LatestVCSWkid(0)
Initial Extent:
XMin: 490064.0
YMin: 5065988.0
XMax: 706996.0
YMax: 5435200.0
Spatial Reference: 26911
(26911)
LatestVCSWkid(0)
Full Extent:
XMin: 490064.0
YMin: 5065988.0
XMax: 706996.0
YMax: 5435200.0
Spatial Reference: 26911
(26911)
LatestVCSWkid(0)
Pixel Size X: 1.0
Pixel Size Y: 1.0
Band Count: 4
Pixel Type: U8
RasterFunction Infos: {"rasterFunctionInfos": [{
"name": "None",
"description": "",
"help": ""
}]}
Mensuration Capabilities: Basic
Inspection Capabilities:
Has Histograms: true
Has Colormap: false
Has Multi Dimensions : false
Rendering Rule:
Min Scale: 0
Max Scale: 0
Copyright Text:
Service Data Type: esriImageServiceDataTypeGeneric
Min Values: 1, 1, 1, 1
Max Values: 254, 254, 254, 254
Mean Values: 62.5790888574961, 71.53463995081692, 66.97852177167802, 89.07763525797475
Standard Deviation Values: 59.207047980259986, 49.48933300571995, 43.55057679723687, 64.18598128212484
Object ID Field:
Fields:
None
Default Mosaic Method: Center
Allowed Mosaic Methods:
SortField:
SortValue: null
Mosaic Operator: First
Default Compression Quality: 75
Default Resampling Method: Bilinear
Max Record Count: null
Max Image Height: 4100
Max Image Width: 15000
Max Download Image Count: null
Max Mosaic Image Count: null
Allow Raster Function: true
Allow Copy: true
Allow Analysis: true
Allow Compute TiePoints: false
Supports Statistics: false
Supports Advanced Queries: false
Use StandardizedQueries: true
Raster Type Infos:
Name: Raster Dataset
Description: Supports all ArcGIS Raster Datasets
Help:
Has Raster Attribute Table: false
Edit Fields Info: null
Ownership Based AccessControl For Rasters: null
Child Resources:
Info
Histograms
Statistics
Key Properties
Legend
Raster Function Infos
Supported Operations:
Export Image
Identify
Compute Histograms
Compute Statistics Histograms
Get Samples
Compute Class Statistics
Query Boundary
Compute Pixel Location
Compute Angles
Validate
Project