{
 "currentVersion": 11.3,
 "serviceDescription": "The RasterRendering service is a multi-tenant raster rendering provider.",
 "name": "Hosted/NAIP_2017",
 "description": "",
 "extent": {
  "xmin": 490064,
  "ymin": 5065988,
  "xmax": 706996,
  "ymax": 5435200,
  "spatialReference": {
   "wkid": 26911,
   "latestWkid": 26911
  }
 },
 "initialExtent": {
  "xmin": 490064,
  "ymin": 5065988,
  "xmax": 706996,
  "ymax": 5435200,
  "spatialReference": {
   "wkid": 26911,
   "latestWkid": 26911
  }
 },
 "fullExtent": {
  "xmin": 490064,
  "ymin": 5065988,
  "xmax": 706996,
  "ymax": 5435200,
  "spatialReference": {
   "wkid": 26911,
   "latestWkid": 26911
  }
 },
 "sortableFields": "",
 "bandCount": 4,
 "pixelType": "U8",
 "minValues": [
  1,
  1,
  1,
  1
 ],
 "maxValues": [
  254,
  254,
  254,
  254
 ],
 "meanValues": [
  62.5790888574961,
  71.53463995081692,
  66.97852177167802,
  89.07763525797475
 ],
 "stdvValues": [
  59.207047980259986,
  49.48933300571995,
  43.55057679723687,
  64.18598128212484
 ],
 "hasMultidimensions": false,
 "pixelSizeX": 1,
 "pixelSizeY": 1,
 "meanPixelSize": 1,
 "datasetFormat": "Cache/LERC2D",
 "uncompressedSize": 320375590336,
 "blockWidth": 256,
 "blockHeight": 256,
 "compressionType": "LERC2D",
 "bandNames": [
  "Band_1",
  "Band_2",
  "Band_3",
  "Band_4"
 ],
 "allowCopy": true,
 "allowAnalysis": true,
 "itemAccess": false,
 "inspectionCapabilities": "",
 "minPixelSize": 0,
 "maxPixelSize": 0,
 "copyrightText": "",
 "serviceDataType": "esriImageServiceDataTypeGeneric",
 "serviceSourceType": "esriImageServiceSourceTypeDataset",
 "objectIdField": "",
 "fields": [],
 "capabilities": "Image",
 "defaultMosaicMethod": "Center",
 "allowedMosaicMethods": "",
 "sortField": "",
 "sortValue": null,
 "sortAscending": true,
 "mosaicOperator": "First",
 "defaultCompressionQuality": 75,
 "defaultResamplingMethod": "Bilinear",
 "maxImageHeight": 4100,
 "maxImageWidth": 15000,
 "allowRasterFunction": true,
 "rasterFunctionInfos": [
  {
   "name": "None",
   "description": "",
   "help": ""
  }
 ],
 "rasterTypeInfos": [
  {
   "name": "Raster Dataset",
   "description": "Supports all ArcGIS Raster Datasets",
   "help": ""
  }
 ],
 "mensurationCapabilities": "Basic",
 "hasHistograms": true,
 "hasColormap": false,
 "hasRasterAttributeTable": false,
 "minScale": 0,
 "maxScale": 0,
 "exportTilesAllowed": false,
 "supportsStatistics": false,
 "supportsAdvancedQueries": false,
 "editFieldsInfo": null,
 "ownershipBasedAccessControlForRasters": null,
 "allowComputeTiePoints": false,
 "useStandardizedQueries": true,
 "advancedQueryCapabilities": {
  "useStandardizedQueries": true,
  "supportsStatistics": false,
  "supportsOrderBy": false,
  "supportsDistinct": false,
  "supportsPagination": false
 },
 "spatialReference": {
  "wkid": 26911,
  "latestWkid": 26911
 }
}
