View In:
ArcGIS JavaScript
ArcGIS Online Map Viewer
ArcGIS Earth
Service Description: The RasterRendering service is a multi-tenant raster rendering provider.
Name: Hosted/IdahoWashington10MeterDEM
Description:
Single Fused Map Cache: false
Extent:
XMin: 264652.06155738625
YMin: 5069622.65568952
XMax: 664912.0615573863
YMax: 5442432.65568952
Spatial Reference: 26911
(26911)
LatestVCSWkid(0)
Initial Extent:
XMin: 264652.06155738625
YMin: 5069622.65568952
XMax: 664912.0615573863
YMax: 5442432.65568952
Spatial Reference: 26911
(26911)
LatestVCSWkid(0)
Full Extent:
XMin: 264652.06155738625
YMin: 5069622.65568952
XMax: 664912.0615573863
YMax: 5442432.65568952
Spatial Reference: 26911
(26911)
LatestVCSWkid(0)
Pixel Size X: 10.000000000000002
Pixel Size Y: 10.0
Band Count: 1
Pixel Type: U32
RasterFunction Infos: {"rasterFunctionInfos": [{
"name": "None",
"description": "Make a Raster or Raster Dataset into a Function Raster Dataset.",
"help": ""
}]}
Mensuration Capabilities: Basic
Inspection Capabilities:
Has Histograms: true
Has Colormap: false
Has Multi Dimensions : false
Rendering Rule:
Min Scale: 0
Max Scale: 0
Copyright Text:
Service Data Type: esriImageServiceDataTypeElevation
Min Values: 78
Max Values: 2539
Mean Values: 809.564896328615
Standard Deviation Values: 397.1314065288175
Object ID Field:
Fields:
None
Default Mosaic Method: Center
Allowed Mosaic Methods:
SortField:
SortValue: null
Mosaic Operator: First
Default Compression Quality: 75
Default Resampling Method: Nearest
Max Record Count: null
Max Image Height: 70000
Max Image Width: 70000
Max Download Image Count: null
Max Mosaic Image Count: null
Allow Raster Function: true
Allow Copy: true
Allow Analysis: true
Allow Compute TiePoints: false
Supports Statistics: false
Supports Advanced Queries: false
Use StandardizedQueries: true
Raster Type Infos:
Name: Raster Dataset
Description: Supports all ArcGIS Raster Datasets
Help:
Has Raster Attribute Table: false
Edit Fields Info: null
Ownership Based AccessControl For Rasters: null
Child Resources:
Info
Histograms
Statistics
Key Properties
Legend
Raster Function Infos
Supported Operations:
Export Image
Identify
Compute Histograms
Compute Statistics Histograms
Get Samples
Compute Class Statistics
Query Boundary
Compute Pixel Location
Compute Angles
Validate
Project
Calculate Volume