{
 "currentVersion": 11.3,
 "serviceDescription": "The RasterRendering service is a multi-tenant raster rendering provider.",
 "name": "Hosted/IdahoWashington10MeterDEM",
 "description": "",
 "extent": {
  "xmin": 264652.06155738625,
  "ymin": 5069622.65568952,
  "xmax": 664912.0615573863,
  "ymax": 5442432.65568952,
  "spatialReference": {
   "wkid": 26911,
   "latestWkid": 26911
  }
 },
 "initialExtent": {
  "xmin": 264652.06155738625,
  "ymin": 5069622.65568952,
  "xmax": 664912.0615573863,
  "ymax": 5442432.65568952,
  "spatialReference": {
   "wkid": 26911,
   "latestWkid": 26911
  }
 },
 "fullExtent": {
  "xmin": 264652.06155738625,
  "ymin": 5069622.65568952,
  "xmax": 664912.0615573863,
  "ymax": 5442432.65568952,
  "spatialReference": {
   "wkid": 26911,
   "latestWkid": 26911
  }
 },
 "sortableFields": "",
 "bandCount": 1,
 "pixelType": "U32",
 "minValues": [
  78
 ],
 "maxValues": [
  2539
 ],
 "meanValues": [
  809.564896328615
 ],
 "stdvValues": [
  397.1314065288175
 ],
 "hasMultidimensions": false,
 "pixelSizeX": 10.000000000000002,
 "pixelSizeY": 10,
 "meanPixelSize": 10,
 "datasetFormat": "Cache/LERC2D",
 "uncompressedSize": 5968837224,
 "blockWidth": 256,
 "blockHeight": 256,
 "compressionType": "LERC2D",
 "bandNames": [
  "Band_1"
 ],
 "allowCopy": true,
 "allowAnalysis": true,
 "itemAccess": false,
 "inspectionCapabilities": "",
 "noDataValue": 2147483647,
 "noDataValues": [
  2147483647
 ],
 "minPixelSize": 0,
 "maxPixelSize": 0,
 "copyrightText": "",
 "serviceDataType": "esriImageServiceDataTypeElevation",
 "serviceSourceType": "esriImageServiceSourceTypeDataset",
 "objectIdField": "",
 "fields": [],
 "capabilities": "Image",
 "defaultMosaicMethod": "Center",
 "allowedMosaicMethods": "",
 "sortField": "",
 "sortValue": null,
 "sortAscending": true,
 "mosaicOperator": "First",
 "defaultCompressionQuality": 75,
 "defaultResamplingMethod": "Nearest",
 "maxImageHeight": 70000,
 "maxImageWidth": 70000,
 "allowRasterFunction": true,
 "rasterFunctionInfos": [
  {
   "name": "None",
   "description": "Make a Raster or Raster Dataset into a Function Raster Dataset.",
   "help": ""
  }
 ],
 "rasterTypeInfos": [
  {
   "name": "Raster Dataset",
   "description": "Supports all ArcGIS Raster Datasets",
   "help": ""
  }
 ],
 "mensurationCapabilities": "Basic",
 "hasHistograms": true,
 "hasColormap": false,
 "hasRasterAttributeTable": false,
 "minScale": 0,
 "maxScale": 0,
 "exportTilesAllowed": false,
 "supportsStatistics": false,
 "supportsAdvancedQueries": false,
 "editFieldsInfo": null,
 "ownershipBasedAccessControlForRasters": null,
 "allowComputeTiePoints": false,
 "useStandardizedQueries": true,
 "advancedQueryCapabilities": {
  "useStandardizedQueries": true,
  "supportsStatistics": false,
  "supportsOrderBy": false,
  "supportsDistinct": false,
  "supportsPagination": false
 },
 "spatialReference": {
  "wkid": 26911,
  "latestWkid": 26911
 }
}
