View In:
ArcGIS JavaScript
ArcGIS Online Map Viewer
ArcGIS Earth
Service Description: Hosted/IdahoNAIP2019
Name: Hosted/IdahoNAIP2019
Description:
Single Fused Map Cache: true
Tile Info:
- Height: 256
- Width: 256
- DPI: 96
-
Levels of Detail: 10
-
Level ID: 0
[ Start Tile, End Tile ]
- Resolution: 307.1999999999998
- Scale: 1161068.5439999993
-
Level ID: 1
[ Start Tile, End Tile ]
- Resolution: 153.5999999999999
- Scale: 580534.2719999996
-
Level ID: 2
[ Start Tile, End Tile ]
- Resolution: 76.79999999999995
- Scale: 290267.1359999998
-
Level ID: 3
[ Start Tile, End Tile ]
- Resolution: 38.39999999999998
- Scale: 145133.5679999999
-
Level ID: 4
[ Start Tile, End Tile ]
- Resolution: 19.19999999999999
- Scale: 72566.78399999996
-
Level ID: 5
[ Start Tile, End Tile ]
- Resolution: 9.599999999999994
- Scale: 36283.39199999998
-
Level ID: 6
[ Start Tile, End Tile ]
- Resolution: 4.799999999999997
- Scale: 18141.69599999999
-
Level ID: 7
[ Start Tile, End Tile ]
- Resolution: 2.3999999999999986
- Scale: 9070.847999999994
-
Level ID: 8
[ Start Tile, End Tile ]
- Resolution: 1.1999999999999993
- Scale: 4535.423999999997
-
Level ID: 9
[ Start Tile, End Tile ]
- Resolution: 0.5999999999999996
- Scale: 2267.7119999999986
- Format: LERC2D
- Compression Quality: 100000.0
- LERC Error: 0.1
- Origin: X: 475444.11580749444
Y: 5274300.206456503
- Spatial Reference: 26911
(26911)
LatestVCSWkid(0)
Storage Info:
- Storage Format: esriMapCacheStorageModeCompactV2
- Packet Size: 16
Extent:
XMin: 475444.11580749444
YMin: 5201928.206456503
XMax: 571915.1158074944
YMax: 5274300.206456503
Spatial Reference: 26911
(26911)
LatestVCSWkid(0)
Initial Extent:
XMin: 475444.11580749444
YMin: 5201928.206456503
XMax: 571915.1158074944
YMax: 5274300.206456503
Spatial Reference: 26911
(26911)
LatestVCSWkid(0)
Full Extent:
XMin: 475444.11580749444
YMin: 5201928.206456503
XMax: 571915.1158074944
YMax: 5274300.206456503
Spatial Reference: 26911
(26911)
LatestVCSWkid(0)
Pixel Size X: 0.5999999999999996
Pixel Size Y: 0.6
Band Count: 4
Pixel Type: U8
RasterFunction Infos: {"rasterFunctionInfos": [{
"name": "None",
"description": "",
"help": ""
}]}
Mensuration Capabilities: Basic
Inspection Capabilities:
Has Histograms: true
Has Colormap: false
Has Multi Dimensions : false
Rendering Rule:
Min Scale: 0
Max Scale: 0
Copyright Text:
Service Data Type: esriImageServiceDataTypeGeneric
Min Values: 5, 10, 14, 1
Max Values: 254, 254, 253, 254
Mean Values: 56.86466965986044, 66.1886620703832, 51.524003218930254, 137.8098040535104
Standard Deviation Values: 44.70165980842627, 36.204309793115875, 23.92392734389795, 58.828550385182744
Object ID Field:
Fields:
None
Default Mosaic Method: Center
Allowed Mosaic Methods:
SortField:
SortValue: null
Mosaic Operator: First
Default Compression Quality: 75
Default Resampling Method: Bilinear
Max Record Count: null
Max Image Height: 4100
Max Image Width: 15000
Max Download Image Count: null
Max Mosaic Image Count: null
Allow Raster Function: true
Allow Copy: true
Allow Analysis: true
Allow Compute TiePoints: false
Supports Statistics: false
Supports Advanced Queries: false
Use StandardizedQueries: true
Raster Type Infos:
Name: Raster Dataset
Description: Supports all ArcGIS Raster Datasets
Help:
Has Raster Attribute Table: false
Edit Fields Info: null
Ownership Based AccessControl For Rasters: null
Child Resources:
Info
Histograms
Statistics
Key Properties
Legend
Raster Function Infos
Supported Operations:
Export Image
Identify
Compute Histograms
Compute Statistics Histograms
Get Samples
Compute Class Statistics
Query Boundary
Compute Pixel Location
Compute Angles
Validate
Project