{
 "currentVersion": 11.3,
 "serviceDescription": "Hosted/IdahoNAIP2019",
 "name": "Hosted/IdahoNAIP2019",
 "description": "",
 "extent": {
  "xmin": 475444.11580749444,
  "ymin": 5201928.206456503,
  "xmax": 571915.1158074944,
  "ymax": 5274300.206456503,
  "spatialReference": {
   "wkid": 26911,
   "latestWkid": 26911
  }
 },
 "initialExtent": {
  "xmin": 475444.11580749444,
  "ymin": 5201928.206456503,
  "xmax": 571915.1158074944,
  "ymax": 5274300.206456503,
  "spatialReference": {
   "wkid": 26911,
   "latestWkid": 26911
  }
 },
 "fullExtent": {
  "xmin": 475444.11580749444,
  "ymin": 5201928.206456503,
  "xmax": 571915.1158074944,
  "ymax": 5274300.206456503,
  "spatialReference": {
   "wkid": 26911,
   "latestWkid": 26911
  }
 },
 "sortableFields": "",
 "bandCount": 4,
 "pixelType": "U8",
 "minValues": [
  5,
  10,
  14,
  1
 ],
 "maxValues": [
  254,
  254,
  253,
  254
 ],
 "meanValues": [
  56.86466965986044,
  66.1886620703832,
  51.524003218930254,
  137.8098040535104
 ],
 "stdvValues": [
  44.70165980842627,
  36.204309793115875,
  23.92392734389795,
  58.828550385182744
 ],
 "hasMultidimensions": false,
 "pixelSizeX": 0.5999999999999996,
 "pixelSizeY": 0.6,
 "meanPixelSize": 0.5999999999999999,
 "datasetFormat": "Cache/LERC2D",
 "uncompressedSize": 77575546800,
 "blockWidth": 256,
 "blockHeight": 256,
 "compressionType": "LERC2D",
 "bandNames": [
  "Red",
  "Green",
  "Blue",
  "Infrared"
 ],
 "allowCopy": true,
 "allowAnalysis": true,
 "itemAccess": false,
 "inspectionCapabilities": "",
 "noDataValue": 255,
 "noDataValues": [
  255,
  255,
  255,
  255
 ],
 "minPixelSize": 0,
 "maxPixelSize": 0,
 "copyrightText": "",
 "serviceDataType": "esriImageServiceDataTypeGeneric",
 "serviceSourceType": "esriImageServiceSourceTypeDataset",
 "objectIdField": "",
 "fields": [],
 "capabilities": "Image, Metadata",
 "defaultMosaicMethod": "Center",
 "allowedMosaicMethods": "",
 "sortField": "",
 "sortValue": null,
 "sortAscending": true,
 "mosaicOperator": "First",
 "defaultCompressionQuality": 75,
 "defaultResamplingMethod": "Bilinear",
 "maxImageHeight": 4100,
 "maxImageWidth": 15000,
 "singleFusedMapCache": true,
 "tileInfo": {
  "rows": 256,
  "cols": 256,
  "dpi": 96,
  "format": "LERC2D",
  "compressionQuality": 100000,
  "lercError": 0.1,
  "origin": {
   "x": 475444.11580749444,
   "y": 5274300.206456503
  },
  "spatialReference": {
   "wkid": 26911,
   "latestWkid": 26911
  },
  "lods": [
   {
    "level": 0,
    "resolution": 307.1999999999998,
    "scale": 1161068.5439999993
   },
   {
    "level": 1,
    "resolution": 153.5999999999999,
    "scale": 580534.2719999996
   },
   {
    "level": 2,
    "resolution": 76.79999999999995,
    "scale": 290267.1359999998
   },
   {
    "level": 3,
    "resolution": 38.39999999999998,
    "scale": 145133.5679999999
   },
   {
    "level": 4,
    "resolution": 19.19999999999999,
    "scale": 72566.78399999996
   },
   {
    "level": 5,
    "resolution": 9.599999999999994,
    "scale": 36283.39199999998
   },
   {
    "level": 6,
    "resolution": 4.799999999999997,
    "scale": 18141.69599999999
   },
   {
    "level": 7,
    "resolution": 2.3999999999999986,
    "scale": 9070.847999999994
   },
   {
    "level": 8,
    "resolution": 1.1999999999999993,
    "scale": 4535.423999999997
   },
   {
    "level": 9,
    "resolution": 0.5999999999999996,
    "scale": 2267.7119999999986
   }
  ]
 },
 "storageInfo": {
  "storageFormat": "esriMapCacheStorageModeCompactV2",
  "packetSize": 16
 },
 "cacheType": "Raster",
 "allowRasterFunction": true,
 "rasterFunctionInfos": [
  {
   "name": "None",
   "description": "",
   "help": ""
  }
 ],
 "rasterTypeInfos": [
  {
   "name": "Raster Dataset",
   "description": "Supports all ArcGIS Raster Datasets",
   "help": ""
  }
 ],
 "mensurationCapabilities": "Basic",
 "hasHistograms": true,
 "hasColormap": false,
 "hasRasterAttributeTable": false,
 "minScale": 0,
 "maxScale": 0,
 "exportTilesAllowed": false,
 "supportsStatistics": false,
 "supportsAdvancedQueries": false,
 "editFieldsInfo": null,
 "ownershipBasedAccessControlForRasters": null,
 "allowComputeTiePoints": false,
 "useStandardizedQueries": true,
 "advancedQueryCapabilities": {
  "useStandardizedQueries": true,
  "supportsStatistics": false,
  "supportsOrderBy": false,
  "supportsDistinct": false,
  "supportsPagination": false
 },
 "spatialReference": {
  "wkid": 26911,
  "latestWkid": 26911
 }
}
