View In:
ArcGIS JavaScript
ArcGIS Online Map Viewer
ArcGIS Earth
Service Description: The RasterRendering service is a multi-tenant raster rendering provider.
Name: Hosted/HeptonNE_2020_3_20_DSM
Description:
Single Fused Map Cache: false
Extent:
XMin: 527992.6035300001
YMin: 5242451.869310001
XMax: 529595.8944699998
YMax: 5243916.434160001
Spatial Reference: 26911
(26911)
LatestVCSWkid(0)
Initial Extent:
XMin: 527992.6035300001
YMin: 5242451.869310001
XMax: 529595.8944699998
YMax: 5243916.434160001
Spatial Reference: 26911
(26911)
LatestVCSWkid(0)
Full Extent:
XMin: 527992.6035300001
YMin: 5242451.869310001
XMax: 529595.8944699998
YMax: 5243916.434160001
Spatial Reference: 26911
(26911)
LatestVCSWkid(0)
Pixel Size X: 0.023389999999996268
Pixel Size Y: 0.02338999999999574
Band Count: 1
Pixel Type: F32
RasterFunction Infos: {"rasterFunctionInfos": [{
"name": "None",
"description": "Make a Raster or Raster Dataset into a Function Raster Dataset.",
"help": ""
}]}
Mensuration Capabilities: Basic
Inspection Capabilities:
Has Histograms: true
Has Colormap: false
Has Multi Dimensions : false
Rendering Rule:
Min Scale: 0
Max Scale: 0
Copyright Text:
Service Data Type: esriImageServiceDataTypeElevation
Min Values: 633.2166137695312
Max Values: 688.8442993164062
Mean Values: 651.011575394825
Standard Deviation Values: 7.6634628920121095
Object ID Field:
Fields:
None
Default Mosaic Method: Center
Allowed Mosaic Methods:
SortField:
SortValue: null
Mosaic Operator: First
Default Compression Quality: 75
Default Resampling Method: Bilinear
Max Record Count: null
Max Image Height: 4100
Max Image Width: 15000
Max Download Image Count: null
Max Mosaic Image Count: null
Allow Raster Function: true
Allow Copy: true
Allow Analysis: true
Allow Compute TiePoints: false
Supports Statistics: false
Supports Advanced Queries: false
Use StandardizedQueries: true
Raster Type Infos:
Name: Raster Dataset
Description: Supports all ArcGIS Raster Datasets
Help:
Has Raster Attribute Table: false
Edit Fields Info: null
Ownership Based AccessControl For Rasters: null
Child Resources:
Info
Histograms
Statistics
Key Properties
Legend
Raster Function Infos
Supported Operations:
Export Image
Identify
Compute Histograms
Compute Statistics Histograms
Get Samples
Compute Class Statistics
Query Boundary
Compute Pixel Location
Compute Angles
Validate
Project
Calculate Volume