{
 "currentVersion": 11.3,
 "serviceDescription": "The RasterRendering service is a multi-tenant raster rendering provider.",
 "name": "Hosted/HeptonNE_2020_3_20_DSM",
 "description": "",
 "extent": {
  "xmin": 527992.6035300001,
  "ymin": 5242451.869310001,
  "xmax": 529595.8944699998,
  "ymax": 5243916.434160001,
  "spatialReference": {
   "wkid": 26911,
   "latestWkid": 26911
  }
 },
 "initialExtent": {
  "xmin": 527992.6035300001,
  "ymin": 5242451.869310001,
  "xmax": 529595.8944699998,
  "ymax": 5243916.434160001,
  "spatialReference": {
   "wkid": 26911,
   "latestWkid": 26911
  }
 },
 "fullExtent": {
  "xmin": 527992.6035300001,
  "ymin": 5242451.869310001,
  "xmax": 529595.8944699998,
  "ymax": 5243916.434160001,
  "spatialReference": {
   "wkid": 26911,
   "latestWkid": 26911
  }
 },
 "sortableFields": "",
 "bandCount": 1,
 "pixelType": "F32",
 "minValues": [
  633.2166137695312
 ],
 "maxValues": [
  688.8442993164062
 ],
 "meanValues": [
  651.011575394825
 ],
 "stdvValues": [
  7.6634628920121095
 ],
 "hasMultidimensions": false,
 "pixelSizeX": 0.023389999999996268,
 "pixelSizeY": 0.02338999999999574,
 "meanPixelSize": 0.023389999999996004,
 "datasetFormat": "Cache/LERC2D",
 "uncompressedSize": 17168031160,
 "blockWidth": 256,
 "blockHeight": 256,
 "compressionType": "LERC2D",
 "bandNames": [
  "Band_1"
 ],
 "allowCopy": true,
 "allowAnalysis": true,
 "itemAccess": false,
 "inspectionCapabilities": "",
 "noDataValue": 3.3999999521443642E38,
 "noDataValues": [
  3.3999999521443642E38
 ],
 "minPixelSize": 0,
 "maxPixelSize": 0,
 "copyrightText": "",
 "serviceDataType": "esriImageServiceDataTypeElevation",
 "serviceSourceType": "esriImageServiceSourceTypeDataset",
 "objectIdField": "",
 "fields": [],
 "capabilities": "Image",
 "defaultMosaicMethod": "Center",
 "allowedMosaicMethods": "",
 "sortField": "",
 "sortValue": null,
 "sortAscending": true,
 "mosaicOperator": "First",
 "defaultCompressionQuality": 75,
 "defaultResamplingMethod": "Bilinear",
 "maxImageHeight": 4100,
 "maxImageWidth": 15000,
 "allowRasterFunction": true,
 "rasterFunctionInfos": [
  {
   "name": "None",
   "description": "Make a Raster or Raster Dataset into a Function Raster Dataset.",
   "help": ""
  }
 ],
 "rasterTypeInfos": [
  {
   "name": "Raster Dataset",
   "description": "Supports all ArcGIS Raster Datasets",
   "help": ""
  }
 ],
 "mensurationCapabilities": "Basic",
 "hasHistograms": true,
 "hasColormap": false,
 "hasRasterAttributeTable": false,
 "minScale": 0,
 "maxScale": 0,
 "exportTilesAllowed": false,
 "supportsStatistics": false,
 "supportsAdvancedQueries": false,
 "editFieldsInfo": null,
 "ownershipBasedAccessControlForRasters": null,
 "allowComputeTiePoints": false,
 "useStandardizedQueries": true,
 "advancedQueryCapabilities": {
  "useStandardizedQueries": true,
  "supportsStatistics": false,
  "supportsOrderBy": false,
  "supportsDistinct": false,
  "supportsPagination": false
 },
 "spatialReference": {
  "wkid": 26911,
  "latestWkid": 26911
 }
}
