View In:
ArcGIS JavaScript
ArcGIS Online Map Viewer
ArcGIS Earth
Service Description: VegClass2025_NLCD_30m_crf
Name: VegClass2025_NLCD_30m_crf
Description:
Single Fused Map Cache: false
Extent:
XMin: 429468.8982270921
YMin: 5136577.72827222
XMax: 733278.8982270921
YMax: 5388187.72827222
Spatial Reference: 26911
(26911)
LatestVCSWkid(0)
Initial Extent:
XMin: 429468.8982270921
YMin: 5136577.72827222
XMax: 733278.8982270921
YMax: 5388187.72827222
Spatial Reference: 26911
(26911)
LatestVCSWkid(0)
Full Extent:
XMin: 429468.8982270921
YMin: 5136577.72827222
XMax: 733278.8982270921
YMax: 5388187.72827222
Spatial Reference: 26911
(26911)
LatestVCSWkid(0)
Pixel Size X: 30.0
Pixel Size Y: 30.0
Band Count: 1
Pixel Type: U8
RasterFunction Infos: {"rasterFunctionInfos": [{
"name": "None",
"description": "",
"help": ""
}]}
Mensuration Capabilities: Basic
Inspection Capabilities:
Has Histograms: true
Has Colormap: false
Has Multi Dimensions : false
Rendering Rule:
Min Scale: 0
Max Scale: 0
Copyright Text:
Service Data Type: esriImageServiceDataTypeGeneric
Min Values: 1
Max Values: 9
Mean Values: 5.459845115449942
Standard Deviation Values: 1.3292174753159813
Object ID Field:
Fields:
None
Default Mosaic Method: Center
Allowed Mosaic Methods:
SortField:
SortValue: null
Mosaic Operator: First
Default Compression Quality: 75
Default Resampling Method: Nearest
Max Record Count: null
Max Image Height: 4100
Max Image Width: 15000
Max Download Image Count: null
Max Mosaic Image Count: null
Allow Raster Function: true
Allow Copy: true
Allow Analysis: true
Allow Compute TiePoints: false
Supports Statistics: false
Supports Advanced Queries: false
Use StandardizedQueries: true
Raster Type Infos:
Name: Raster Dataset
Description: Supports all ArcGIS Raster Datasets
Help:
Has Raster Attribute Table: true
Edit Fields Info: null
Ownership Based AccessControl For Rasters: null
Child Resources:
Info
Raster Attribute Table
Histograms
Statistics
Key Properties
Legend
Raster Function Infos
Supported Operations:
Export Image
Identify
Compute Histograms
Compute Statistics Histograms
Get Samples
Compute Class Statistics
Query Boundary
Compute Pixel Location
Compute Angles
Validate
Project