View In:
ArcGIS JavaScript
ArcGIS Online Map Viewer
ArcGIS Earth
Service Description: The RasterRendering service is a multi-tenant raster rendering provider.
Name: Hosted/Toetly3Fire_2021_08_26_North_orthomosaic
Description:
Single Fused Map Cache: false
Extent:
XMin: 511345.4690968544
YMin: 5244733.348234477
XMax: 514437.65400085435
YMax: 5246044.124530477
Spatial Reference: 26911
(26911)
LatestVCSWkid(0)
Initial Extent:
XMin: 511345.4690968544
YMin: 5244733.348234477
XMax: 514437.65400085435
YMax: 5246044.124530477
Spatial Reference: 26911
(26911)
LatestVCSWkid(0)
Full Extent:
XMin: 511345.4690968544
YMin: 5244733.348234477
XMax: 514437.65400085435
YMax: 5246044.124530477
Spatial Reference: 26911
(26911)
LatestVCSWkid(0)
Pixel Size X: 0.10533399999999882
Pixel Size Y: 0.1053339999999997
Band Count: 6
Pixel Type: U16
RasterFunction Infos: {"rasterFunctionInfos": [{
"name": "None",
"description": "",
"help": ""
}]}
Mensuration Capabilities: Basic
Inspection Capabilities:
Has Histograms: true
Has Colormap: false
Has Multi Dimensions : false
Rendering Rule:
Min Scale: 0
Max Scale: 0
Copyright Text:
Service Data Type: esriImageServiceDataTypeGeneric
Min Values: 2, 1, 1, 1, 1, 65535
Max Values: 23301, 38269, 38725, 41510, 48570, 65535
Mean Values: 1679.1029523917448, 2949.2060342979958, 3683.4691096749075, 6135.026639976935, 11043.345710592583, 65535
Standard Deviation Values: 1206.8853843407567, 2066.8926554352515, 3273.400576676943, 3977.4583361772666, 6649.039766627019, 0
Object ID Field:
Fields:
None
Default Mosaic Method: Center
Allowed Mosaic Methods:
SortField:
SortValue: null
Mosaic Operator: First
Default Compression Quality: 75
Default Resampling Method: Bilinear
Max Record Count: null
Max Image Height: 4100
Max Image Width: 15000
Max Download Image Count: null
Max Mosaic Image Count: null
Allow Raster Function: true
Allow Copy: true
Allow Analysis: true
Allow Compute TiePoints: false
Supports Statistics: false
Supports Advanced Queries: false
Use StandardizedQueries: true
Raster Type Infos:
Name: Raster Dataset
Description: Supports all ArcGIS Raster Datasets
Help:
Has Raster Attribute Table: false
Edit Fields Info: null
Ownership Based AccessControl For Rasters: null
Child Resources:
Info
Histograms
Statistics
Key Properties
Legend
Raster Function Infos
Supported Operations:
Export Image
Identify
Compute Histograms
Compute Statistics Histograms
Get Samples
Compute Class Statistics
Query Boundary
Compute Pixel Location
Compute Angles
Validate
Project