View In:
ArcGIS JavaScript
ArcGIS Online Map Viewer
ArcGIS Earth
Service Description: The RasterRendering service is a multi-tenant raster rendering provider.
Name: Hosted/StJoeRiverHyperspectral
Description:
Single Fused Map Cache: false
Extent:
XMin: -1.2996034183899999E7
YMin: 6001332.083884674
XMax: -1.2995084665220229E7
YMax: 6002374.247499998
Spatial Reference: 102100
(3857)
LatestVCSWkid(0)
Initial Extent:
XMin: -1.2996034183899999E7
YMin: 6001332.083884674
XMax: -1.2995084665220229E7
YMax: 6002374.247499998
Spatial Reference: 102100
(3857)
LatestVCSWkid(0)
Full Extent:
XMin: -1.2996034183899999E7
YMin: 6001332.083884674
XMax: -1.2995084665220229E7
YMax: 6002374.247499998
Spatial Reference: 102100
(3857)
LatestVCSWkid(0)
Pixel Size X: 0.09190965828764977
Pixel Size Y: 0.09190965828764469
Band Count: 4
Pixel Type: U16
RasterFunction Infos: {"rasterFunctionInfos": [{
"name": "None",
"description": "",
"help": ""
}]}
Mensuration Capabilities: Basic
Inspection Capabilities:
Has Histograms: true
Has Colormap: false
Has Multi Dimensions : false
Rendering Rule:
Min Scale: 0
Max Scale: 0
Copyright Text:
Service Data Type: esriImageServiceDataTypeGeneric
Min Values: 89, 111, 120, 255
Max Values: 256, 256, 256, 256
Mean Values: 170.88312515985933, 185.9839776193081, 196.99232846414984, 255.34409192007774
Standard Deviation Values: 62.40361083655489, 51.597490279518716, 43.379959015782156, 0.4750712302588254
Object ID Field:
Fields:
None
Default Mosaic Method: Center
Allowed Mosaic Methods:
SortField:
SortValue: null
Mosaic Operator: First
Default Compression Quality: 75
Default Resampling Method: Bilinear
Max Record Count: null
Max Image Height: 4100
Max Image Width: 15000
Max Download Image Count: null
Max Mosaic Image Count: null
Allow Raster Function: true
Allow Copy: true
Allow Analysis: true
Allow Compute TiePoints: false
Supports Statistics: false
Supports Advanced Queries: false
Use StandardizedQueries: true
Raster Type Infos:
Name: Raster Dataset
Description: Supports all ArcGIS Raster Datasets
Help:
Has Raster Attribute Table: false
Edit Fields Info: null
Ownership Based AccessControl For Rasters: null
Child Resources:
Info
Histograms
Statistics
Key Properties
Legend
Raster Function Infos
Supported Operations:
Export Image
Identify
Compute Histograms
Compute Statistics Histograms
Get Samples
Compute Class Statistics
Query Boundary
Compute Pixel Location
Compute Angles
Validate
Project