View In:
ArcGIS JavaScript
ArcGIS Online Map Viewer
ArcGIS Earth
Service Description: The RasterRendering service is a multi-tenant raster rendering provider.
Name: Hosted/Spokane_CDA_Orthos_2009
Description:
Single Fused Map Cache: false
Extent:
XMin: 432490.99999999994
YMin: 5228978.000000001
XMax: 555491.0
YMax: 5326478.000000001
Spatial Reference: 26911
(26911)
LatestVCSWkid(0)
Initial Extent:
XMin: 432490.99999999994
YMin: 5228978.000000001
XMax: 555491.0
YMax: 5326478.000000001
Spatial Reference: 26911
(26911)
LatestVCSWkid(0)
Full Extent:
XMin: 432490.99999999994
YMin: 5228978.000000001
XMax: 555491.0
YMax: 5326478.000000001
Spatial Reference: 26911
(26911)
LatestVCSWkid(0)
Pixel Size X: 0.30000000000000016
Pixel Size Y: 0.3
Band Count: 3
Pixel Type: U8
RasterFunction Infos: {"rasterFunctionInfos": [{
"name": "None",
"description": "",
"help": ""
}]}
Mensuration Capabilities: Basic
Inspection Capabilities:
Has Histograms: true
Has Colormap: false
Has Multi Dimensions : false
Rendering Rule:
Min Scale: 0
Max Scale: 0
Copyright Text:
Service Data Type: esriImageServiceDataTypeRGB
Min Values: 0, 0, 0
Max Values: 255, 255, 255
Mean Values: 96.4795546106564, 93.20683860282938, 84.19495207583478
Standard Deviation Values: 57.37267925363081, 56.99308344331442, 52.06412122496765
Object ID Field:
Fields:
None
Default Mosaic Method: Center
Allowed Mosaic Methods:
SortField:
SortValue: null
Mosaic Operator: First
Default Compression Quality: 75
Default Resampling Method: Bilinear
Max Record Count: null
Max Image Height: 4100
Max Image Width: 15000
Max Download Image Count: null
Max Mosaic Image Count: null
Allow Raster Function: true
Allow Copy: true
Allow Analysis: true
Allow Compute TiePoints: false
Supports Statistics: false
Supports Advanced Queries: false
Use StandardizedQueries: true
Raster Type Infos:
Name: Raster Dataset
Description: Supports all ArcGIS Raster Datasets
Help:
Has Raster Attribute Table: false
Edit Fields Info: null
Ownership Based AccessControl For Rasters: null
Child Resources:
Info
Histograms
Statistics
Key Properties
Legend
Raster Function Infos
Supported Operations:
Export Image
Identify
Compute Histograms
Compute Statistics Histograms
Get Samples
Compute Class Statistics
Query Boundary
Compute Pixel Location
Compute Angles
Validate
Project