View In:
ArcGIS JavaScript
ArcGIS Online Map Viewer
ArcGIS Earth
Service Description: The RasterRendering service is a multi-tenant raster rendering provider.
Name: Hosted/SILC
Description:
Single Fused Map Cache: false
Extent:
XMin: 475919.58726241783
YMin: 5162575.890839642
XMax: 672730.4346710367
YMax: 5346165.657045553
Spatial Reference: 26911
(26911)
LatestVCSWkid(0)
Initial Extent:
XMin: 475919.58726241783
YMin: 5162575.890839642
XMax: 672730.4346710367
YMax: 5346165.657045553
Spatial Reference: 26911
(26911)
LatestVCSWkid(0)
Full Extent:
XMin: 475919.58726241783
YMin: 5162575.890839642
XMax: 672730.4346710367
YMax: 5346165.657045553
Spatial Reference: 26911
(26911)
LatestVCSWkid(0)
Pixel Size X: 32.72544852155285
Pixel Size Y: 32.725448521552856
Band Count: 1
Pixel Type: U8
RasterFunction Infos: {"rasterFunctionInfos": [{
"name": "None",
"description": "",
"help": ""
}]}
Mensuration Capabilities: Basic
Inspection Capabilities:
Has Histograms: true
Has Colormap: false
Has Multi Dimensions : false
Rendering Rule:
Min Scale: 0
Max Scale: 0
Copyright Text:
Service Data Type: esriImageServiceDataTypeThematic
Min Values: 1
Max Values: 34
Mean Values: 16.83638960236054
Standard Deviation Values: 7.794717942448416
Object ID Field:
Fields:
None
Default Mosaic Method: Center
Allowed Mosaic Methods:
SortField:
SortValue: null
Mosaic Operator: First
Default Compression Quality: 75
Default Resampling Method: Nearest
Max Record Count: null
Max Image Height: 4100
Max Image Width: 15000
Max Download Image Count: null
Max Mosaic Image Count: null
Allow Raster Function: true
Allow Copy: true
Allow Analysis: true
Allow Compute TiePoints: false
Supports Statistics: false
Supports Advanced Queries: false
Use StandardizedQueries: true
Raster Type Infos:
Name: Raster Dataset
Description: Supports all ArcGIS Raster Datasets
Help:
Has Raster Attribute Table: true
Edit Fields Info: null
Ownership Based AccessControl For Rasters: null
Child Resources:
Info
Raster Attribute Table
Histograms
Statistics
Key Properties
Legend
Raster Function Infos
Supported Operations:
Export Image
Identify
Compute Histograms
Compute Statistics Histograms
Get Samples
Compute Class Statistics
Query Boundary
Compute Pixel Location
Compute Angles
Validate
Project