View In:
ArcGIS JavaScript
ArcGIS Online Map Viewer
ArcGIS Earth
Service Description: The RasterRendering service is a multi-tenant raster rendering provider.
Name: Hosted/Pictometry_2011
Description:
Single Fused Map Cache: false
Extent:
XMin: 495755.2284032054
YMin: 5207192.009564192
XMax: 551598.6623799223
YMax: 5316592.568149517
Spatial Reference: 26911
(26911)
LatestVCSWkid(0)
Initial Extent:
XMin: 495755.2284032054
YMin: 5207192.009564192
XMax: 551598.6623799223
YMax: 5316592.568149517
Spatial Reference: 26911
(26911)
LatestVCSWkid(0)
Full Extent:
XMin: 495755.2284032054
YMin: 5207192.009564192
XMax: 551598.6623799223
YMax: 5316592.568149517
Spatial Reference: 26911
(26911)
LatestVCSWkid(0)
Pixel Size X: 0.30480060899999967
Pixel Size Y: 0.3048006090000007
Band Count: 3
Pixel Type: U8
RasterFunction Infos: {"rasterFunctionInfos": [{
"name": "None",
"description": "",
"help": ""
}]}
Mensuration Capabilities: Basic
Inspection Capabilities:
Has Histograms: true
Has Colormap: false
Has Multi Dimensions : false
Rendering Rule:
Min Scale: 0
Max Scale: 0
Copyright Text:
Service Data Type: esriImageServiceDataTypeRGB
Min Values: 0, 0, 0
Max Values: 255, 255, 255
Mean Values: 88.69328049897379, 109.54818056655678, 90.00028785370857
Standard Deviation Values: 64.97660256915265, 55.059638063175996, 40.54378396203743
Object ID Field:
Fields:
None
Default Mosaic Method: Center
Allowed Mosaic Methods:
SortField:
SortValue: null
Mosaic Operator: First
Default Compression Quality: 75
Default Resampling Method: Bilinear
Max Record Count: null
Max Image Height: 4100
Max Image Width: 15000
Max Download Image Count: null
Max Mosaic Image Count: null
Allow Raster Function: true
Allow Copy: true
Allow Analysis: true
Allow Compute TiePoints: false
Supports Statistics: false
Supports Advanced Queries: false
Use StandardizedQueries: true
Raster Type Infos:
Name: Raster Dataset
Description: Supports all ArcGIS Raster Datasets
Help:
Has Raster Attribute Table: false
Edit Fields Info: null
Ownership Based AccessControl For Rasters: null
Child Resources:
Info
Histograms
Statistics
Key Properties
Legend
Raster Function Infos
Supported Operations:
Export Image
Identify
Compute Histograms
Compute Statistics Histograms
Get Samples
Compute Class Statistics
Query Boundary
Compute Pixel Location
Compute Angles
Validate
Project