View In:
ArcGIS JavaScript
ArcGIS Online Map Viewer
ArcGIS Earth
Service Description: The RasterRendering service is a multi-tenant raster rendering provider.
Name: Hosted/Pictometry_2007_Worley_5_Inch
Description:
Single Fused Map Cache: false
Extent:
XMin: 498659.0098000001
YMin: 5248467.592
XMax: 510982.33738293045
YMax: 5259087.88722463
Spatial Reference: 26911
(26911)
LatestVCSWkid(0)
Initial Extent:
XMin: 498659.0098000001
YMin: 5248467.592
XMax: 510982.33738293045
YMax: 5259087.88722463
Spatial Reference: 26911
(26911)
LatestVCSWkid(0)
Full Extent:
XMin: 498659.0098000001
YMin: 5248467.592
XMax: 510982.33738293045
YMax: 5259087.88722463
Spatial Reference: 26911
(26911)
LatestVCSWkid(0)
Pixel Size X: 0.13635167000000367
Pixel Size Y: 0.1363516700000035
Band Count: 3
Pixel Type: U8
RasterFunction Infos: {"rasterFunctionInfos": [{
"name": "None",
"description": "",
"help": ""
}]}
Mensuration Capabilities: Basic
Inspection Capabilities:
Has Histograms: true
Has Colormap: false
Has Multi Dimensions : false
Rendering Rule:
Min Scale: 0
Max Scale: 0
Copyright Text:
Service Data Type: esriImageServiceDataTypeRGB
Min Values: 0, 0, 0
Max Values: 255, 255, 255
Mean Values: 127.6613005099247, 121.55806543469613, 89.41264989359692
Standard Deviation Values: 50.55088663283978, 43.94079090441991, 33.927436997642715
Object ID Field:
Fields:
None
Default Mosaic Method: Center
Allowed Mosaic Methods:
SortField:
SortValue: null
Mosaic Operator: First
Default Compression Quality: 75
Default Resampling Method: Bilinear
Max Record Count: null
Max Image Height: 4100
Max Image Width: 15000
Max Download Image Count: null
Max Mosaic Image Count: null
Allow Raster Function: true
Allow Copy: true
Allow Analysis: true
Allow Compute TiePoints: false
Supports Statistics: false
Supports Advanced Queries: false
Use StandardizedQueries: true
Raster Type Infos:
Name: Raster Dataset
Description: Supports all ArcGIS Raster Datasets
Help:
Has Raster Attribute Table: false
Edit Fields Info: null
Ownership Based AccessControl For Rasters: null
Child Resources:
Info
Histograms
Statistics
Key Properties
Legend
Raster Function Infos
Supported Operations:
Export Image
Identify
Compute Histograms
Compute Statistics Histograms
Get Samples
Compute Class Statistics
Query Boundary
Compute Pixel Location
Compute Angles
Validate
Project