View In:
ArcGIS JavaScript
ArcGIS Online Map Viewer
ArcGIS Earth
Service Description: The RasterRendering service is a multi-tenant raster rendering provider.
Name: Hosted/Pictometry_2007_Tensed_5_Inch
Description:
Single Fused Map Cache: false
Extent:
XMin: 503595.7894358644
YMin: 5219587.019676786
XMax: 509245.27423732437
YMax: 5225137.879147906
Spatial Reference: 26911
(26911)
LatestVCSWkid(0)
Initial Extent:
XMin: 503595.7894358644
YMin: 5219587.019676786
XMax: 509245.27423732437
YMax: 5225137.879147906
Spatial Reference: 26911
(26911)
LatestVCSWkid(0)
Full Extent:
XMin: 503595.7894358644
YMin: 5219587.019676786
XMax: 509245.27423732437
YMax: 5225137.879147906
Spatial Reference: 26911
(26911)
LatestVCSWkid(0)
Pixel Size X: 0.13132533999999862
Pixel Size Y: 0.1313253399999986
Band Count: 3
Pixel Type: U16
RasterFunction Infos: {"rasterFunctionInfos": [{
"name": "None",
"description": "",
"help": ""
}]}
Mensuration Capabilities: Basic
Inspection Capabilities:
Has Histograms: true
Has Colormap: false
Has Multi Dimensions : false
Rendering Rule:
Min Scale: 0
Max Scale: 0
Copyright Text:
Service Data Type: esriImageServiceDataTypeGeneric
Min Values: 0, 0, 0
Max Values: 255, 255, 255
Mean Values: 146.9321025914257, 128.8318919755536, 87.9133107550544
Standard Deviation Values: 36.68328690802704, 34.832033100751296, 27.92664259880036
Object ID Field:
Fields:
None
Default Mosaic Method: Center
Allowed Mosaic Methods:
SortField:
SortValue: null
Mosaic Operator: First
Default Compression Quality: 75
Default Resampling Method: Bilinear
Max Record Count: null
Max Image Height: 4100
Max Image Width: 15000
Max Download Image Count: null
Max Mosaic Image Count: null
Allow Raster Function: true
Allow Copy: true
Allow Analysis: true
Allow Compute TiePoints: false
Supports Statistics: false
Supports Advanced Queries: false
Use StandardizedQueries: true
Raster Type Infos:
Name: Raster Dataset
Description: Supports all ArcGIS Raster Datasets
Help:
Has Raster Attribute Table: false
Edit Fields Info: null
Ownership Based AccessControl For Rasters: null
Child Resources:
Info
Histograms
Statistics
Key Properties
Legend
Raster Function Infos
Supported Operations:
Export Image
Identify
Compute Histograms
Compute Statistics Histograms
Get Samples
Compute Class Statistics
Query Boundary
Compute Pixel Location
Compute Angles
Validate
Project