View In:
ArcGIS JavaScript
ArcGIS Online Map Viewer
ArcGIS Earth
Service Description: The RasterRendering service is a multi-tenant raster rendering provider.
Name: Hosted/Pictometry_2007_Plummer_5_Inch
Description:
Single Fused Map Cache: false
Extent:
XMin: 506662.77469999995
YMin: 5238728.7421
XMax: 511046.4827783998
YMax: 5246053.88461
Spatial Reference: 26911
(26911)
LatestVCSWkid(0)
Initial Extent:
XMin: 506662.77469999995
YMin: 5238728.7421
XMax: 511046.4827783998
YMax: 5246053.88461
Spatial Reference: 26911
(26911)
LatestVCSWkid(0)
Full Extent:
XMin: 506662.77469999995
YMin: 5238728.7421
XMax: 511046.4827783998
YMax: 5246053.88461
Spatial Reference: 26911
(26911)
LatestVCSWkid(0)
Pixel Size X: 0.14775879999999408
Pixel Size Y: 0.14775879999999364
Band Count: 3
Pixel Type: U16
RasterFunction Infos: {"rasterFunctionInfos": [{
"name": "None",
"description": "",
"help": ""
}]}
Mensuration Capabilities: Basic
Inspection Capabilities:
Has Histograms: true
Has Colormap: false
Has Multi Dimensions : false
Rendering Rule:
Min Scale: 0
Max Scale: 0
Copyright Text:
Service Data Type: esriImageServiceDataTypeGeneric
Min Values: 0, 0, 0
Max Values: 255, 255, 255
Mean Values: 132.88254107701965, 126.92329567449717, 89.97243603045237
Standard Deviation Values: 40.3167782135576, 35.33792411868259, 29.484097264467373
Object ID Field:
Fields:
None
Default Mosaic Method: Center
Allowed Mosaic Methods:
SortField:
SortValue: null
Mosaic Operator: First
Default Compression Quality: 75
Default Resampling Method: Bilinear
Max Record Count: null
Max Image Height: 4100
Max Image Width: 15000
Max Download Image Count: null
Max Mosaic Image Count: null
Allow Raster Function: true
Allow Copy: true
Allow Analysis: true
Allow Compute TiePoints: false
Supports Statistics: false
Supports Advanced Queries: false
Use StandardizedQueries: true
Raster Type Infos:
Name: Raster Dataset
Description: Supports all ArcGIS Raster Datasets
Help:
Has Raster Attribute Table: false
Edit Fields Info: null
Ownership Based AccessControl For Rasters: null
Child Resources:
Info
Histograms
Statistics
Key Properties
Legend
Raster Function Infos
Supported Operations:
Export Image
Identify
Compute Histograms
Compute Statistics Histograms
Get Samples
Compute Class Statistics
Query Boundary
Compute Pixel Location
Compute Angles
Validate
Project