View In:
ArcGIS JavaScript
ArcGIS Online Map Viewer
ArcGIS Earth
Service Description: The RasterRendering service is a multi-tenant raster rendering provider.
Name: Hosted/Pictometry_2007_1_ft
Description:
Single Fused Map Cache: false
Extent:
XMin: 491504.072198885
YMin: 5208048.139398018
XMax: 573250.4659423549
YMax: 5271169.841417758
Spatial Reference: 26911
(26911)
LatestVCSWkid(0)
Initial Extent:
XMin: 491504.072198885
YMin: 5208048.139398018
XMax: 573250.4659423549
YMax: 5271169.841417758
Spatial Reference: 26911
(26911)
LatestVCSWkid(0)
Full Extent:
XMin: 491504.072198885
YMin: 5208048.139398018
XMax: 573250.4659423549
YMax: 5271169.841417758
Spatial Reference: 26911
(26911)
LatestVCSWkid(0)
Pixel Size X: 0.29218410999999944
Pixel Size Y: 0.2921841099999995
Band Count: 3
Pixel Type: U8
RasterFunction Infos: {"rasterFunctionInfos": [{
"name": "None",
"description": "",
"help": ""
}]}
Mensuration Capabilities: Basic
Inspection Capabilities:
Has Histograms: true
Has Colormap: false
Has Multi Dimensions : false
Rendering Rule:
Min Scale: 0
Max Scale: 0
Copyright Text:
Service Data Type: esriImageServiceDataTypeRGB
Min Values: 0, 0, 0
Max Values: 255, 255, 255
Mean Values: 45.16013290219135, 48.65807318769955, 41.263191131454406
Standard Deviation Values: 65.27537205335109, 66.58000874178148, 55.15808289709904
Object ID Field:
Fields:
None
Default Mosaic Method: Center
Allowed Mosaic Methods:
SortField:
SortValue: null
Mosaic Operator: First
Default Compression Quality: 75
Default Resampling Method: Bilinear
Max Record Count: null
Max Image Height: 4100
Max Image Width: 15000
Max Download Image Count: null
Max Mosaic Image Count: null
Allow Raster Function: true
Allow Copy: true
Allow Analysis: true
Allow Compute TiePoints: false
Supports Statistics: false
Supports Advanced Queries: false
Use StandardizedQueries: true
Raster Type Infos:
Name: Raster Dataset
Description: Supports all ArcGIS Raster Datasets
Help:
Has Raster Attribute Table: false
Edit Fields Info: null
Ownership Based AccessControl For Rasters: null
Child Resources:
Info
Histograms
Statistics
Key Properties
Legend
Raster Function Infos
Supported Operations:
Export Image
Identify
Compute Histograms
Compute Statistics Histograms
Get Samples
Compute Class Statistics
Query Boundary
Compute Pixel Location
Compute Angles
Validate
Project