View In:
ArcGIS JavaScript
ArcGIS Online Map Viewer
ArcGIS Earth
Service Description: The RasterRendering service is a multi-tenant raster rendering provider.
Name: Hosted/NLCD2011
Description:
Single Fused Map Cache: false
Extent:
XMin: -260734.5532863274
YMin: 4295494.519447027
XMax: 1735405.4467136725
YMax: 5884894.519447027
Spatial Reference: 26911
(26911)
LatestVCSWkid(0)
Initial Extent:
XMin: -260734.5532863274
YMin: 4295494.519447027
XMax: 1735405.4467136725
YMax: 5884894.519447027
Spatial Reference: 26911
(26911)
LatestVCSWkid(0)
Full Extent:
XMin: -260734.5532863274
YMin: 4295494.519447027
XMax: 1735405.4467136725
YMax: 5884894.519447027
Spatial Reference: 26911
(26911)
LatestVCSWkid(0)
Pixel Size X: 30.0
Pixel Size Y: 30.0
Band Count: 1
Pixel Type: S32
RasterFunction Infos: {"rasterFunctionInfos": [{
"name": "None",
"description": "",
"help": ""
}]}
Mensuration Capabilities: Basic
Inspection Capabilities:
Has Histograms: true
Has Colormap: false
Has Multi Dimensions : false
Rendering Rule:
Min Scale: 0
Max Scale: 0
Copyright Text:
Service Data Type: esriImageServiceDataTypeThematic
Min Values: 0
Max Values: 95
Mean Values: 57.09793111917293
Standard Deviation Values: 17.77573787380207
Object ID Field:
Fields:
None
Default Mosaic Method: Center
Allowed Mosaic Methods:
SortField:
SortValue: null
Mosaic Operator: First
Default Compression Quality: 75
Default Resampling Method: Nearest
Max Record Count: null
Max Image Height: 4100
Max Image Width: 15000
Max Download Image Count: null
Max Mosaic Image Count: null
Allow Raster Function: true
Allow Copy: true
Allow Analysis: true
Allow Compute TiePoints: false
Supports Statistics: false
Supports Advanced Queries: false
Use StandardizedQueries: true
Raster Type Infos:
Name: Raster Dataset
Description: Supports all ArcGIS Raster Datasets
Help:
Has Raster Attribute Table: false
Edit Fields Info: null
Ownership Based AccessControl For Rasters: null
Child Resources:
Info
Histograms
Statistics
Key Properties
Legend
Raster Function Infos
Supported Operations:
Export Image
Identify
Compute Histograms
Compute Statistics Histograms
Get Samples
Compute Class Statistics
Query Boundary
Compute Pixel Location
Compute Angles
Validate
Project