View In:
ArcGIS JavaScript
ArcGIS Online Map Viewer
ArcGIS Earth
Service Description: The RasterRendering service is a multi-tenant raster rendering provider.
Name: Hosted/LaneMarshHyperspectral2
Description:
Single Fused Map Cache: false
Extent:
XMin: 535719.8738231618
YMin: 5262613.0986078195
XMax: 536364.1200398321
YMax: 5263249.982010585
Spatial Reference: 26911
(26911)
LatestVCSWkid(0)
Initial Extent:
XMin: 535719.8738231618
YMin: 5262613.0986078195
XMax: 536364.1200398321
YMax: 5263249.982010585
Spatial Reference: 26911
(26911)
LatestVCSWkid(0)
Full Extent:
XMin: 535719.8738231618
YMin: 5262613.0986078195
XMax: 536364.1200398321
YMax: 5263249.982010585
Spatial Reference: 26911
(26911)
LatestVCSWkid(0)
Pixel Size X: 0.09203517381003726
Pixel Size Y: 0.09203517381007638
Band Count: 4
Pixel Type: U16
RasterFunction Infos: {"rasterFunctionInfos": [{
"name": "None",
"description": "",
"help": ""
}]}
Mensuration Capabilities: Basic
Inspection Capabilities:
Has Histograms: true
Has Colormap: false
Has Multi Dimensions : false
Rendering Rule:
Min Scale: 0
Max Scale: 0
Copyright Text:
Service Data Type: esriImageServiceDataTypeGeneric
Min Values: 74, 82, 91, 255
Max Values: 256, 256, 256, 256
Mean Values: 146.9036469488173, 145.9320483229916, 147.7370609572062, 255.07420987553544
Standard Deviation Values: 41.07923772191744, 38.508054189142634, 35.86134979373579, 0.2621121374094495
Object ID Field:
Fields:
None
Default Mosaic Method: Center
Allowed Mosaic Methods:
SortField:
SortValue: null
Mosaic Operator: First
Default Compression Quality: 75
Default Resampling Method: Bilinear
Max Record Count: null
Max Image Height: 4100
Max Image Width: 15000
Max Download Image Count: null
Max Mosaic Image Count: null
Allow Raster Function: true
Allow Copy: true
Allow Analysis: true
Allow Compute TiePoints: false
Supports Statistics: false
Supports Advanced Queries: false
Use StandardizedQueries: true
Raster Type Infos:
Name: Raster Dataset
Description: Supports all ArcGIS Raster Datasets
Help:
Has Raster Attribute Table: false
Edit Fields Info: null
Ownership Based AccessControl For Rasters: null
Child Resources:
Info
Histograms
Statistics
Key Properties
Legend
Raster Function Infos
Supported Operations:
Export Image
Identify
Compute Histograms
Compute Statistics Histograms
Get Samples
Compute Class Statistics
Query Boundary
Compute Pixel Location
Compute Angles
Validate
Project