View In:
ArcGIS JavaScript
ArcGIS Online Map Viewer
ArcGIS Earth
Service Description: The RasterRendering service is a multi-tenant raster rendering provider.
Name: Hosted/LakeCreekOrtho_2019_09_12
Description:
Single Fused Map Cache: false
Extent:
XMin: 497085.27770000044
YMin: 5265444.43332
XMax: 497233.7829400004
YMax: 5266199.6202
Spatial Reference: 26911
(26911)
LatestVCSWkid(0)
Initial Extent:
XMin: 497085.27770000044
YMin: 5265444.43332
XMax: 497233.7829400004
YMax: 5266199.6202
Spatial Reference: 26911
(26911)
LatestVCSWkid(0)
Full Extent:
XMin: 497085.27770000044
YMin: 5265444.43332
XMax: 497233.7829400004
YMax: 5266199.6202
Spatial Reference: 26911
(26911)
LatestVCSWkid(0)
Pixel Size X: 0.041239999999991526
Pixel Size Y: 0.04123999999999649
Band Count: 4
Pixel Type: U8
RasterFunction Infos: {"rasterFunctionInfos": [{
"name": "None",
"description": "",
"help": ""
}]}
Mensuration Capabilities: Basic
Inspection Capabilities:
Has Histograms: true
Has Colormap: false
Has Multi Dimensions : false
Rendering Rule:
Min Scale: 0
Max Scale: 0
Copyright Text:
Service Data Type: esriImageServiceDataTypeGeneric
Min Values: 1, 1, 1, 255
Max Values: 255, 255, 255, 255
Mean Values: 140.35662192096373, 139.4557885542378, 111.67722641875554, 255
Standard Deviation Values: 48.21840394665296, 43.10952957231951, 45.96644936759732, 0
Object ID Field:
Fields:
None
Default Mosaic Method: Center
Allowed Mosaic Methods:
SortField:
SortValue: null
Mosaic Operator: First
Default Compression Quality: 75
Default Resampling Method: Bilinear
Max Record Count: null
Max Image Height: 4100
Max Image Width: 15000
Max Download Image Count: null
Max Mosaic Image Count: null
Allow Raster Function: true
Allow Copy: true
Allow Analysis: true
Allow Compute TiePoints: false
Supports Statistics: false
Supports Advanced Queries: false
Use StandardizedQueries: true
Raster Type Infos:
Name: Raster Dataset
Description: Supports all ArcGIS Raster Datasets
Help:
Has Raster Attribute Table: false
Edit Fields Info: null
Ownership Based AccessControl For Rasters: null
Child Resources:
Info
Histograms
Statistics
Key Properties
Legend
Raster Function Infos
Supported Operations:
Export Image
Identify
Compute Histograms
Compute Statistics Histograms
Get Samples
Compute Class Statistics
Query Boundary
Compute Pixel Location
Compute Angles
Validate
Project