View In:
ArcGIS JavaScript
ArcGIS Online Map Viewer
ArcGIS Earth
Service Description: The RasterRendering service is a multi-tenant raster rendering provider.
Name: Hosted/LakeCreekNE_2019_Orthomosaic
Description:
Single Fused Map Cache: false
Extent:
XMin: 497048.90029999986
YMin: 5265398.178100001
XMax: 497290.5566899999
YMax: 5266357.813900001
Spatial Reference: 26911
(26911)
LatestVCSWkid(0)
Initial Extent:
XMin: 497048.90029999986
YMin: 5265398.178100001
XMax: 497290.5566899999
YMax: 5266357.813900001
Spatial Reference: 26911
(26911)
LatestVCSWkid(0)
Full Extent:
XMin: 497048.90029999986
YMin: 5265398.178100001
XMax: 497290.5566899999
YMax: 5266357.813900001
Spatial Reference: 26911
(26911)
LatestVCSWkid(0)
Pixel Size X: 0.07281000000000551
Pixel Size Y: 0.07281000000002126
Band Count: 4
Pixel Type: U8
RasterFunction Infos: {"rasterFunctionInfos": [{
"name": "None",
"description": "",
"help": ""
}]}
Mensuration Capabilities: Basic
Inspection Capabilities:
Has Histograms: true
Has Colormap: false
Has Multi Dimensions : false
Rendering Rule:
Min Scale: 0
Max Scale: 0
Copyright Text:
Service Data Type: esriImageServiceDataTypeGeneric
Min Values: 1, 11, 1, 255
Max Values: 255, 255, 255, 255
Mean Values: 118.1194165576795, 141.47863436663144, 101.71270835953051, 255
Standard Deviation Values: 28.83625121706488, 22.818753819707112, 26.670727647925503, 0
Object ID Field:
Fields:
None
Default Mosaic Method: Center
Allowed Mosaic Methods:
SortField:
SortValue: null
Mosaic Operator: First
Default Compression Quality: 75
Default Resampling Method: Bilinear
Max Record Count: null
Max Image Height: 4100
Max Image Width: 15000
Max Download Image Count: null
Max Mosaic Image Count: null
Allow Raster Function: true
Allow Copy: true
Allow Analysis: true
Allow Compute TiePoints: false
Supports Statistics: false
Supports Advanced Queries: false
Use StandardizedQueries: true
Raster Type Infos:
Name: Raster Dataset
Description: Supports all ArcGIS Raster Datasets
Help:
Has Raster Attribute Table: false
Edit Fields Info: null
Ownership Based AccessControl For Rasters: null
Child Resources:
Info
Histograms
Statistics
Key Properties
Legend
Raster Function Infos
Supported Operations:
Export Image
Identify
Compute Histograms
Compute Statistics Histograms
Get Samples
Compute Class Statistics
Query Boundary
Compute Pixel Location
Compute Angles
Validate
Project