View In:
ArcGIS JavaScript
ArcGIS Online Map Viewer
ArcGIS Earth
Service Description: The RasterRendering service is a multi-tenant raster rendering provider.
Name: Hosted/Idaho_Canopy_Cover
Description:
Single Fused Map Cache: false
Extent:
XMin: 450785.4905697272
YMin: 4633420.4711167915
XMax: 1003655.4905697273
YMax: 5456200.4711167915
Spatial Reference: 26911
(26911)
LatestVCSWkid(0)
Initial Extent:
XMin: 450785.4905697272
YMin: 4633420.4711167915
XMax: 1003655.4905697273
YMax: 5456200.4711167915
Spatial Reference: 26911
(26911)
LatestVCSWkid(0)
Full Extent:
XMin: 450785.4905697272
YMin: 4633420.4711167915
XMax: 1003655.4905697273
YMax: 5456200.4711167915
Spatial Reference: 26911
(26911)
LatestVCSWkid(0)
Pixel Size X: 90.0
Pixel Size Y: 90.0
Band Count: 1
Pixel Type: U8
RasterFunction Infos: {"rasterFunctionInfos": [{
"name": "None",
"description": "",
"help": ""
}]}
Mensuration Capabilities: Basic
Inspection Capabilities:
Has Histograms: true
Has Colormap: false
Has Multi Dimensions : false
Rendering Rule:
Min Scale: 0
Max Scale: 0
Copyright Text:
Service Data Type: esriImageServiceDataTypeThematic
Min Values: 1
Max Values: 99
Mean Values: 64.98805929199786
Standard Deviation Values: 37.67129922858462
Object ID Field:
Fields:
None
Default Mosaic Method: Center
Allowed Mosaic Methods:
SortField:
SortValue: null
Mosaic Operator: First
Default Compression Quality: 75
Default Resampling Method: Nearest
Max Record Count: null
Max Image Height: 4100
Max Image Width: 15000
Max Download Image Count: null
Max Mosaic Image Count: null
Allow Raster Function: true
Allow Copy: true
Allow Analysis: true
Allow Compute TiePoints: false
Supports Statistics: false
Supports Advanced Queries: false
Use StandardizedQueries: true
Raster Type Infos:
Name: Raster Dataset
Description: Supports all ArcGIS Raster Datasets
Help:
Has Raster Attribute Table: true
Edit Fields Info: null
Ownership Based AccessControl For Rasters: null
Child Resources:
Info
Raster Attribute Table
Histograms
Statistics
Key Properties
Legend
Raster Function Infos
Supported Operations:
Export Image
Identify
Compute Histograms
Compute Statistics Histograms
Get Samples
Compute Class Statistics
Query Boundary
Compute Pixel Location
Compute Angles
Validate
Project