View In:
ArcGIS JavaScript
ArcGIS Online Map Viewer
ArcGIS Earth
Service Description: The RasterRendering service is a multi-tenant raster rendering provider.
Name: Hosted/HistoricalGLO_SurveyMaps_CDA
Description:
Single Fused Map Cache: false
Extent:
XMin: 496955.6205422169
YMin: 5207148.837325786
XMax: 545788.388863452
YMax: 5265484.059491501
Spatial Reference: 26911
(26911)
LatestVCSWkid(0)
Initial Extent:
XMin: 496955.6205422169
YMin: 5207148.837325786
XMax: 545788.388863452
YMax: 5265484.059491501
Spatial Reference: 26911
(26911)
LatestVCSWkid(0)
Full Extent:
XMin: 496955.6205422169
YMin: 5207148.837325786
XMax: 545788.388863452
YMax: 5265484.059491501
Spatial Reference: 26911
(26911)
LatestVCSWkid(0)
Pixel Size X: 1.9767950581401101
Pixel Size Y: 1.9767950581401204
Band Count: 3
Pixel Type: U16
RasterFunction Infos: {"rasterFunctionInfos": [{
"name": "None",
"description": "",
"help": ""
}]}
Mensuration Capabilities: Basic
Inspection Capabilities:
Has Histograms: true
Has Colormap: false
Has Multi Dimensions : false
Rendering Rule:
Min Scale: 0
Max Scale: 0
Copyright Text:
Service Data Type: esriImageServiceDataTypeGeneric
Min Values: 0, 0, 0
Max Values: 255, 255, 255
Mean Values: 234.61092400258303, 234.54099627057624, 234.27293212341704
Standard Deviation Values: 50.65300838974331, 50.670688855811015, 50.708518728586576
Object ID Field:
Fields:
None
Default Mosaic Method: Center
Allowed Mosaic Methods:
SortField:
SortValue: null
Mosaic Operator: First
Default Compression Quality: 75
Default Resampling Method: Bilinear
Max Record Count: null
Max Image Height: 4100
Max Image Width: 15000
Max Download Image Count: null
Max Mosaic Image Count: null
Allow Raster Function: true
Allow Copy: true
Allow Analysis: true
Allow Compute TiePoints: false
Supports Statistics: false
Supports Advanced Queries: false
Use StandardizedQueries: true
Raster Type Infos:
Name: Raster Dataset
Description: Supports all ArcGIS Raster Datasets
Help:
Has Raster Attribute Table: false
Edit Fields Info: null
Ownership Based AccessControl For Rasters: null
Child Resources:
Info
Histograms
Statistics
Key Properties
Legend
Raster Function Infos
Supported Operations:
Export Image
Identify
Compute Histograms
Compute Statistics Histograms
Get Samples
Compute Class Statistics
Query Boundary
Compute Pixel Location
Compute Angles
Validate
Project