View In:
ArcGIS JavaScript
ArcGIS Online Map Viewer
ArcGIS Earth
Service Description: The RasterRendering service is a multi-tenant raster rendering provider.
Name: Hosted/HangmanT109Ortho_2020_2_28
Description:
Single Fused Map Cache: false
Extent:
XMin: -1.30293892843E7
YMin: 5973811.248900001
XMax: -1.30271422241E7
YMax: 5976121.224700001
Spatial Reference: 102100
(3857)
LatestVCSWkid(0)
Initial Extent:
XMin: -1.30293892843E7
YMin: 5973811.248900001
XMax: -1.30271422241E7
YMax: 5976121.224700001
Spatial Reference: 102100
(3857)
LatestVCSWkid(0)
Full Extent:
XMin: -1.30293892843E7
YMin: 5973811.248900001
XMax: -1.30271422241E7
YMax: 5976121.224700001
Spatial Reference: 102100
(3857)
LatestVCSWkid(0)
Pixel Size X: 0.08690000000000703
Pixel Size Y: 0.08690000000000493
Band Count: 4
Pixel Type: U8
RasterFunction Infos: {"rasterFunctionInfos": [{
"name": "None",
"description": "",
"help": ""
}]}
Mensuration Capabilities: Basic
Inspection Capabilities:
Has Histograms: true
Has Colormap: false
Has Multi Dimensions : false
Rendering Rule:
Min Scale: 0
Max Scale: 0
Copyright Text:
Service Data Type: esriImageServiceDataTypeGeneric
Min Values: 6, 5, 4, 255
Max Values: 255, 255, 255, 255
Mean Values: 154.5942538371211, 140.84753384293776, 127.94487744024897, 255
Standard Deviation Values: 29.016443177729084, 28.378281215932773, 26.37383446528801, 0
Object ID Field:
Fields:
None
Default Mosaic Method: Center
Allowed Mosaic Methods:
SortField:
SortValue: null
Mosaic Operator: First
Default Compression Quality: 75
Default Resampling Method: Bilinear
Max Record Count: null
Max Image Height: 4100
Max Image Width: 15000
Max Download Image Count: null
Max Mosaic Image Count: null
Allow Raster Function: true
Allow Copy: true
Allow Analysis: true
Allow Compute TiePoints: false
Supports Statistics: false
Supports Advanced Queries: false
Use StandardizedQueries: true
Raster Type Infos:
Name: Raster Dataset
Description: Supports all ArcGIS Raster Datasets
Help:
Has Raster Attribute Table: false
Edit Fields Info: null
Ownership Based AccessControl For Rasters: null
Child Resources:
Info
Histograms
Statistics
Key Properties
Legend
Raster Function Infos
Supported Operations:
Export Image
Identify
Compute Histograms
Compute Statistics Histograms
Get Samples
Compute Class Statistics
Query Boundary
Compute Pixel Location
Compute Angles
Validate
Project