View In:
ArcGIS JavaScript
ArcGIS Online Map Viewer
ArcGIS Earth
Service Description: The RasterRendering service is a multi-tenant raster rendering provider.
Name: Hosted/Garden_2020_08_05_orthomosaic
Description:
Single Fused Map Cache: false
Extent:
XMin: 506078.10268230864
YMin: 5250497.710627886
XMax: 506296.4475837019
YMax: 5250693.311045417
Spatial Reference: 26911
(26911)
LatestVCSWkid(0)
Initial Extent:
XMin: 506078.10268230864
YMin: 5250497.710627886
XMax: 506296.4475837019
YMax: 5250693.311045417
Spatial Reference: 26911
(26911)
LatestVCSWkid(0)
Full Extent:
XMin: 506078.10268230864
YMin: 5250497.710627886
XMax: 506296.4475837019
YMax: 5250693.311045417
Spatial Reference: 26911
(26911)
LatestVCSWkid(0)
Pixel Size X: 0.010718418408192239
Pixel Size Y: 0.01071841840819198
Band Count: 4
Pixel Type: U8
RasterFunction Infos: {"rasterFunctionInfos": [{
"name": "None",
"description": "",
"help": ""
}]}
Mensuration Capabilities: Basic
Inspection Capabilities:
Has Histograms: true
Has Colormap: false
Has Multi Dimensions : false
Rendering Rule:
Min Scale: 0
Max Scale: 0
Copyright Text:
Service Data Type: esriImageServiceDataTypeGeneric
Min Values: 1, 1, 1, 255
Max Values: 255, 255, 255, 255
Mean Values: 148.36621557703413, 141.00183518657076, 116.4900779930483, 255
Standard Deviation Values: 41.53166594557884, 37.582035317001164, 43.33456221765041, 0
Object ID Field:
Fields:
None
Default Mosaic Method: Center
Allowed Mosaic Methods:
SortField:
SortValue: null
Mosaic Operator: First
Default Compression Quality: 75
Default Resampling Method: Bilinear
Max Record Count: null
Max Image Height: 4100
Max Image Width: 15000
Max Download Image Count: null
Max Mosaic Image Count: null
Allow Raster Function: true
Allow Copy: true
Allow Analysis: true
Allow Compute TiePoints: false
Supports Statistics: false
Supports Advanced Queries: false
Use StandardizedQueries: true
Raster Type Infos:
Name: Raster Dataset
Description: Supports all ArcGIS Raster Datasets
Help:
Has Raster Attribute Table: false
Edit Fields Info: null
Ownership Based AccessControl For Rasters: null
Child Resources:
Info
Histograms
Statistics
Key Properties
Legend
Raster Function Infos
Supported Operations:
Export Image
Identify
Compute Histograms
Compute Statistics Histograms
Get Samples
Compute Class Statistics
Query Boundary
Compute Pixel Location
Compute Angles
Validate
Project