View In:
ArcGIS JavaScript
ArcGIS Online Map Viewer
ArcGIS Earth
Service Description: The RasterRendering service is a multi-tenant raster rendering provider.
Name: Hosted/1946_Orthos
Description:
Single Fused Map Cache: false
Extent:
XMin: 494741.6363995569
YMin: 5204268.698272198
XMax: 521734.70535955275
YMax: 5260209.60395219
Spatial Reference: 26911
(26911)
LatestVCSWkid(0)
Initial Extent:
XMin: 494741.6363995569
YMin: 5204268.698272198
XMax: 521734.70535955275
YMax: 5260209.60395219
Spatial Reference: 26911
(26911)
LatestVCSWkid(0)
Full Extent:
XMin: 494741.6363995569
YMin: 5204268.698272198
XMax: 521734.70535955275
YMax: 5260209.60395219
Spatial Reference: 26911
(26911)
LatestVCSWkid(0)
Pixel Size X: 1.7626399999997304
Pixel Size Y: 1.762639999999731
Band Count: 1
Pixel Type: S16
RasterFunction Infos: {"rasterFunctionInfos": [{
"name": "None",
"description": "",
"help": ""
}]}
Mensuration Capabilities: Basic
Inspection Capabilities:
Has Histograms: true
Has Colormap: false
Has Multi Dimensions : false
Rendering Rule:
Min Scale: 0
Max Scale: 0
Copyright Text:
Service Data Type: esriImageServiceDataTypeGeneric
Min Values: 0
Max Values: 255
Mean Values: 118.2952709929424
Standard Deviation Values: 57.04798507007193
Object ID Field:
Fields:
None
Default Mosaic Method: Center
Allowed Mosaic Methods:
SortField:
SortValue: null
Mosaic Operator: First
Default Compression Quality: 75
Default Resampling Method: Bilinear
Max Record Count: null
Max Image Height: 4100
Max Image Width: 15000
Max Download Image Count: null
Max Mosaic Image Count: null
Allow Raster Function: true
Allow Copy: true
Allow Analysis: true
Allow Compute TiePoints: false
Supports Statistics: false
Supports Advanced Queries: false
Use StandardizedQueries: true
Raster Type Infos:
Name: Raster Dataset
Description: Supports all ArcGIS Raster Datasets
Help:
Has Raster Attribute Table: false
Edit Fields Info: null
Ownership Based AccessControl For Rasters: null
Child Resources:
Info
Histograms
Statistics
Key Properties
Legend
Raster Function Infos
Supported Operations:
Export Image
Identify
Compute Histograms
Compute Statistics Histograms
Get Samples
Compute Class Statistics
Query Boundary
Compute Pixel Location
Compute Angles
Validate
Project