View In:
ArcGIS JavaScript
ArcGIS Online Map Viewer
ArcGIS Earth
Service Description: The RasterRendering service is a multi-tenant raster rendering provider.
Name: Hosted/1933_Orthos
Description:
Single Fused Map Cache: false
Extent:
XMin: 491583.6375170592
YMin: 5207102.536552225
XMax: 544656.941342877
YMax: 5262070.618597576
Spatial Reference: 26911
(26911)
LatestVCSWkid(0)
Initial Extent:
XMin: 491583.6375170592
YMin: 5207102.536552225
XMax: 544656.941342877
YMax: 5262070.618597576
Spatial Reference: 26911
(26911)
LatestVCSWkid(0)
Full Extent:
XMin: 491583.6375170592
YMin: 5207102.536552225
XMax: 544656.941342877
YMax: 5262070.618597576
Spatial Reference: 26911
(26911)
LatestVCSWkid(0)
Pixel Size X: 1.9513678882939103
Pixel Size Y: 1.95136788829391
Band Count: 1
Pixel Type: S32
RasterFunction Infos: {"rasterFunctionInfos": [{
"name": "None",
"description": "",
"help": ""
}]}
Mensuration Capabilities: Basic
Inspection Capabilities:
Has Histograms: true
Has Colormap: false
Has Multi Dimensions : false
Rendering Rule:
Min Scale: 0
Max Scale: 0
Copyright Text:
Service Data Type: esriImageServiceDataTypeGeneric
Min Values: 0
Max Values: 255
Mean Values: 124.19928911876713
Standard Deviation Values: 51.67251136591374
Object ID Field:
Fields:
None
Default Mosaic Method: Center
Allowed Mosaic Methods:
SortField:
SortValue: null
Mosaic Operator: First
Default Compression Quality: 75
Default Resampling Method: Bilinear
Max Record Count: null
Max Image Height: 4100
Max Image Width: 15000
Max Download Image Count: null
Max Mosaic Image Count: null
Allow Raster Function: true
Allow Copy: true
Allow Analysis: true
Allow Compute TiePoints: false
Supports Statistics: false
Supports Advanced Queries: false
Use StandardizedQueries: true
Raster Type Infos:
Name: Raster Dataset
Description: Supports all ArcGIS Raster Datasets
Help:
Has Raster Attribute Table: false
Edit Fields Info: null
Ownership Based AccessControl For Rasters: null
Child Resources:
Info
Histograms
Statistics
Key Properties
Legend
Raster Function Infos
Supported Operations:
Export Image
Identify
Compute Histograms
Compute Statistics Histograms
Get Samples
Compute Class Statistics
Query Boundary
Compute Pixel Location
Compute Angles
Validate
Project