{
 "currentVersion": 11.3,
 "serviceDescription": "Hosted/NCLD_2019_Landcover",
 "name": "Hosted/NCLD_2019_Landcover",
 "description": "",
 "extent": {
  "xmin": -301966.19057410245,
  "ymin": 4357350.548374186,
  "xmax": 1639873.8094258974,
  "ymax": 5804820.548374186,
  "spatialReference": {
   "wkid": 26911,
   "latestWkid": 26911
  }
 },
 "initialExtent": {
  "xmin": -301966.19057410245,
  "ymin": 4357350.548374186,
  "xmax": 1639873.8094258974,
  "ymax": 5804820.548374186,
  "spatialReference": {
   "wkid": 26911,
   "latestWkid": 26911
  }
 },
 "fullExtent": {
  "xmin": -301966.19057410245,
  "ymin": 4357350.548374186,
  "xmax": 1639873.8094258974,
  "ymax": 5804820.548374186,
  "spatialReference": {
   "wkid": 26911,
   "latestWkid": 26911
  }
 },
 "sortableFields": "",
 "bandCount": 1,
 "pixelType": "S8",
 "minValues": [
  0
 ],
 "maxValues": [
  95
 ],
 "meanValues": [
  56.04176097617023
 ],
 "stdvValues": [
  17.45705502616452
 ],
 "hasMultidimensions": false,
 "pixelSizeX": 30,
 "pixelSizeY": 30,
 "meanPixelSize": 30,
 "datasetFormat": "Cache/LERC2D",
 "uncompressedSize": 3123061272,
 "blockWidth": 256,
 "blockHeight": 256,
 "compressionType": "LERC2D",
 "bandNames": [
  "Band_1"
 ],
 "allowCopy": true,
 "allowAnalysis": true,
 "itemAccess": false,
 "inspectionCapabilities": "",
 "noDataValue": -128,
 "noDataValues": [
  -128
 ],
 "minPixelSize": 0,
 "maxPixelSize": 0,
 "copyrightText": "",
 "serviceDataType": "esriImageServiceDataTypeThematic",
 "serviceSourceType": "esriImageServiceSourceTypeDataset",
 "objectIdField": "",
 "fields": [],
 "capabilities": "Image, Metadata",
 "defaultMosaicMethod": "Center",
 "allowedMosaicMethods": "",
 "sortField": "",
 "sortValue": null,
 "sortAscending": true,
 "mosaicOperator": "First",
 "defaultCompressionQuality": 75,
 "defaultResamplingMethod": "Nearest",
 "maxImageHeight": 4100,
 "maxImageWidth": 15000,
 "singleFusedMapCache": true,
 "tileInfo": {
  "rows": 256,
  "cols": 256,
  "dpi": 96,
  "format": "LERC2D",
  "compressionQuality": 100000,
  "lercError": 0.1,
  "origin": {
   "x": -301966.19057410245,
   "y": 5804820.548374186
  },
  "spatialReference": {
   "wkid": 26911,
   "latestWkid": 26911
  },
  "lods": [
   {
    "level": 0,
    "resolution": 7680,
    "scale": 2.9026713599999998E7
   },
   {
    "level": 1,
    "resolution": 3840,
    "scale": 1.4513356799999999E7
   },
   {
    "level": 2,
    "resolution": 1920,
    "scale": 7256678.399999999
   },
   {
    "level": 3,
    "resolution": 960,
    "scale": 3628339.1999999997
   },
   {
    "level": 4,
    "resolution": 480,
    "scale": 1814169.5999999999
   },
   {
    "level": 5,
    "resolution": 240,
    "scale": 907084.7999999999
   },
   {
    "level": 6,
    "resolution": 120,
    "scale": 453542.39999999997
   },
   {
    "level": 7,
    "resolution": 60,
    "scale": 226771.19999999998
   },
   {
    "level": 8,
    "resolution": 30,
    "scale": 113385.59999999999
   }
  ]
 },
 "storageInfo": {
  "storageFormat": "esriMapCacheStorageModeCompactV2",
  "packetSize": 16
 },
 "cacheType": "Raster",
 "allowRasterFunction": true,
 "rasterFunctionInfos": [
  {
   "name": "None",
   "description": "",
   "help": ""
  }
 ],
 "rasterTypeInfos": [
  {
   "name": "Raster Dataset",
   "description": "Supports all ArcGIS Raster Datasets",
   "help": ""
  }
 ],
 "mensurationCapabilities": "Basic",
 "hasHistograms": true,
 "hasColormap": true,
 "hasRasterAttributeTable": true,
 "minScale": 0,
 "maxScale": 0,
 "exportTilesAllowed": false,
 "supportsStatistics": false,
 "supportsAdvancedQueries": false,
 "editFieldsInfo": null,
 "ownershipBasedAccessControlForRasters": null,
 "allowComputeTiePoints": false,
 "useStandardizedQueries": true,
 "advancedQueryCapabilities": {
  "useStandardizedQueries": true,
  "supportsStatistics": false,
  "supportsOrderBy": false,
  "supportsDistinct": false,
  "supportsPagination": false
 },
 "spatialReference": {
  "wkid": 26911,
  "latestWkid": 26911
 }
}
