{
 "currentVersion": 11.3,
 "serviceDescription": "Hosted/IdahoNAIP2021",
 "name": "Hosted/IdahoNAIP2021",
 "description": "",
 "extent": {
  "xmin": 495042,
  "ymin": 5198016,
  "xmax": 576312,
  "ymax": 5289198,
  "spatialReference": {
   "wkid": 26911,
   "latestWkid": 26911
  }
 },
 "initialExtent": {
  "xmin": 495042,
  "ymin": 5198016,
  "xmax": 576312,
  "ymax": 5289198,
  "spatialReference": {
   "wkid": 26911,
   "latestWkid": 26911
  }
 },
 "fullExtent": {
  "xmin": 495042,
  "ymin": 5198016,
  "xmax": 576312,
  "ymax": 5289198,
  "spatialReference": {
   "wkid": 26911,
   "latestWkid": 26911
  }
 },
 "sortableFields": "",
 "bandCount": 4,
 "pixelType": "U8",
 "minValues": [
  0,
  0,
  0,
  0
 ],
 "maxValues": [
  247,
  243,
  244,
  255
 ],
 "meanValues": [
  60.936630431639124,
  78.12013912899262,
  69.13036332844638,
  134.12651685663997
 ],
 "stdvValues": [
  51.00409407433292,
  44.77699466150192,
  33.41737378770337,
  67.5669075069767
 ],
 "hasMultidimensions": false,
 "pixelSizeX": 0.6,
 "pixelSizeY": 0.6,
 "meanPixelSize": 0.6,
 "datasetFormat": "Cache/LERC2D",
 "uncompressedSize": 82337346000,
 "blockWidth": 256,
 "blockHeight": 256,
 "compressionType": "LERC2D",
 "bandNames": [
  "Band_1",
  "Band_2",
  "Band_3",
  "Band_4"
 ],
 "allowCopy": true,
 "allowAnalysis": true,
 "itemAccess": false,
 "inspectionCapabilities": "",
 "minPixelSize": 0,
 "maxPixelSize": 0,
 "copyrightText": "",
 "serviceDataType": "esriImageServiceDataTypeGeneric",
 "serviceSourceType": "esriImageServiceSourceTypeDataset",
 "objectIdField": "",
 "fields": [],
 "capabilities": "Image, Metadata",
 "defaultMosaicMethod": "Center",
 "allowedMosaicMethods": "",
 "sortField": "",
 "sortValue": null,
 "sortAscending": true,
 "mosaicOperator": "First",
 "defaultCompressionQuality": 75,
 "defaultResamplingMethod": "Nearest",
 "maxImageHeight": 4100,
 "maxImageWidth": 15000,
 "singleFusedMapCache": true,
 "tileInfo": {
  "rows": 256,
  "cols": 256,
  "dpi": 96,
  "format": "LERC2D",
  "compressionQuality": 100000,
  "lercError": 0.1,
  "origin": {
   "x": 495042,
   "y": 5289198
  },
  "spatialReference": {
   "wkid": 26911,
   "latestWkid": 26911
  },
  "lods": [
   {
    "level": 0,
    "resolution": 614.4,
    "scale": 2322137.088
   },
   {
    "level": 1,
    "resolution": 307.2,
    "scale": 1161068.544
   },
   {
    "level": 2,
    "resolution": 153.6,
    "scale": 580534.272
   },
   {
    "level": 3,
    "resolution": 76.8,
    "scale": 290267.136
   },
   {
    "level": 4,
    "resolution": 38.4,
    "scale": 145133.568
   },
   {
    "level": 5,
    "resolution": 19.2,
    "scale": 72566.784
   },
   {
    "level": 6,
    "resolution": 9.6,
    "scale": 36283.392
   },
   {
    "level": 7,
    "resolution": 4.8,
    "scale": 18141.696
   },
   {
    "level": 8,
    "resolution": 2.4,
    "scale": 9070.848
   },
   {
    "level": 9,
    "resolution": 1.2,
    "scale": 4535.424
   },
   {
    "level": 10,
    "resolution": 0.6,
    "scale": 2267.712
   }
  ]
 },
 "storageInfo": {
  "storageFormat": "esriMapCacheStorageModeCompactV2",
  "packetSize": 16
 },
 "cacheType": "Raster",
 "allowRasterFunction": true,
 "rasterFunctionInfos": [
  {
   "name": "None",
   "description": "",
   "help": ""
  }
 ],
 "rasterTypeInfos": [
  {
   "name": "Raster Dataset",
   "description": "Supports all ArcGIS Raster Datasets",
   "help": ""
  }
 ],
 "mensurationCapabilities": "Basic",
 "hasHistograms": true,
 "hasColormap": false,
 "hasRasterAttributeTable": false,
 "minScale": 0,
 "maxScale": 0,
 "exportTilesAllowed": false,
 "supportsStatistics": false,
 "supportsAdvancedQueries": false,
 "editFieldsInfo": null,
 "ownershipBasedAccessControlForRasters": null,
 "allowComputeTiePoints": false,
 "useStandardizedQueries": true,
 "advancedQueryCapabilities": {
  "useStandardizedQueries": true,
  "supportsStatistics": false,
  "supportsOrderBy": false,
  "supportsDistinct": false,
  "supportsPagination": false
 },
 "spatialReference": {
  "wkid": 26911,
  "latestWkid": 26911
 }
}
