{
 "currentVersion": 11.3,
 "serviceDescription": "The RasterRendering service is a multi-tenant raster rendering provider.",
 "name": "Hosted/HangmanT109DTM_2020_2_28",
 "description": "",
 "extent": {
  "xmin": -1.30293892843E7,
  "ymin": 5973811.20306,
  "xmax": -1.302714237098E7,
  "ymax": 5976121.224599999,
  "spatialReference": {
   "wkid": 102100,
   "latestWkid": 3857
  }
 },
 "initialExtent": {
  "xmin": -1.30293892843E7,
  "ymin": 5973811.20306,
  "xmax": -1.302714237098E7,
  "ymax": 5976121.224599999,
  "spatialReference": {
   "wkid": 102100,
   "latestWkid": 3857
  }
 },
 "fullExtent": {
  "xmin": -1.30293892843E7,
  "ymin": 5973811.20306,
  "xmax": -1.302714237098E7,
  "ymax": 5976121.224599999,
  "spatialReference": {
   "wkid": 102100,
   "latestWkid": 3857
  }
 },
 "sortableFields": "",
 "bandCount": 1,
 "pixelType": "F32",
 "minValues": [
  757.4486083984375
 ],
 "maxValues": [
  798.0986328125
 ],
 "meanValues": [
  778.4458251240609
 ],
 "stdvValues": [
  8.27138017479447
 ],
 "hasMultidimensions": false,
 "pixelSizeX": 0.10861999999996869,
 "pixelSizeY": 0.10861999999996107,
 "meanPixelSize": 0.10861999999996488,
 "datasetFormat": "Cache/LERC2D",
 "uncompressedSize": 1759716648,
 "blockWidth": 256,
 "blockHeight": 256,
 "compressionType": "LERC2D",
 "bandNames": [
  "Band_1"
 ],
 "allowCopy": true,
 "allowAnalysis": true,
 "itemAccess": false,
 "inspectionCapabilities": "",
 "minPixelSize": 0,
 "maxPixelSize": 0,
 "copyrightText": "",
 "serviceDataType": "esriImageServiceDataTypeGeneric",
 "serviceSourceType": "esriImageServiceSourceTypeDataset",
 "objectIdField": "",
 "fields": [],
 "capabilities": "Image",
 "defaultMosaicMethod": "Center",
 "allowedMosaicMethods": "",
 "sortField": "",
 "sortValue": null,
 "sortAscending": true,
 "mosaicOperator": "First",
 "defaultCompressionQuality": 75,
 "defaultResamplingMethod": "Bilinear",
 "maxImageHeight": 4100,
 "maxImageWidth": 15000,
 "allowRasterFunction": true,
 "rasterFunctionInfos": [
  {
   "name": "None",
   "description": "",
   "help": ""
  }
 ],
 "rasterTypeInfos": [
  {
   "name": "Raster Dataset",
   "description": "Supports all ArcGIS Raster Datasets",
   "help": ""
  }
 ],
 "mensurationCapabilities": "Basic",
 "hasHistograms": true,
 "hasColormap": false,
 "hasRasterAttributeTable": false,
 "minScale": 0,
 "maxScale": 0,
 "exportTilesAllowed": false,
 "supportsStatistics": false,
 "supportsAdvancedQueries": false,
 "editFieldsInfo": null,
 "ownershipBasedAccessControlForRasters": null,
 "allowComputeTiePoints": false,
 "useStandardizedQueries": true,
 "advancedQueryCapabilities": {
  "useStandardizedQueries": true,
  "supportsStatistics": false,
  "supportsOrderBy": false,
  "supportsDistinct": false,
  "supportsPagination": false
 },
 "spatialReference": {
  "wkid": 102100,
  "latestWkid": 3857
 }
}
