{
 "currentVersion": 11.3,
 "serviceDescription": "The RasterRendering service is a multi-tenant raster rendering provider.",
 "name": "Hosted/HangmanT103DSM_2020_3_05",
 "description": "",
 "extent": {
  "xmin": -1.3028855817400001E7,
  "ymin": 5972660.9729,
  "xmax": -1.3026070070600001E7,
  "ymax": 5975093.2639,
  "spatialReference": {
   "wkid": 102100,
   "latestWkid": 3857
  }
 },
 "initialExtent": {
  "xmin": -1.3028855817400001E7,
  "ymin": 5972660.9729,
  "xmax": -1.3026070070600001E7,
  "ymax": 5975093.2639,
  "spatialReference": {
   "wkid": 102100,
   "latestWkid": 3857
  }
 },
 "fullExtent": {
  "xmin": -1.3028855817400001E7,
  "ymin": 5972660.9729,
  "xmax": -1.3026070070600001E7,
  "ymax": 5975093.2639,
  "spatialReference": {
   "wkid": 102100,
   "latestWkid": 3857
  }
 },
 "sortableFields": "",
 "bandCount": 1,
 "pixelType": "F32",
 "minValues": [
  755.2139282226562
 ],
 "maxValues": [
  803.5504150390625
 ],
 "meanValues": [
  772.2694681472807
 ],
 "stdvValues": [
  10.096308042931925
 ],
 "hasMultidimensions": false,
 "pixelSizeX": 0.09609999999999476,
 "pixelSizeY": 0.09609999999997115,
 "meanPixelSize": 0.09609999999998295,
 "datasetFormat": "Cache/LERC2D",
 "uncompressedSize": 2934745120,
 "blockWidth": 256,
 "blockHeight": 256,
 "compressionType": "LERC2D",
 "bandNames": [
  "Band_1"
 ],
 "allowCopy": true,
 "allowAnalysis": true,
 "itemAccess": false,
 "inspectionCapabilities": "",
 "minPixelSize": 0,
 "maxPixelSize": 0,
 "copyrightText": "",
 "serviceDataType": "esriImageServiceDataTypeGeneric",
 "serviceSourceType": "esriImageServiceSourceTypeDataset",
 "objectIdField": "",
 "fields": [],
 "capabilities": "Image",
 "defaultMosaicMethod": "Center",
 "allowedMosaicMethods": "",
 "sortField": "",
 "sortValue": null,
 "sortAscending": true,
 "mosaicOperator": "First",
 "defaultCompressionQuality": 75,
 "defaultResamplingMethod": "Bilinear",
 "maxImageHeight": 4100,
 "maxImageWidth": 15000,
 "allowRasterFunction": true,
 "rasterFunctionInfos": [
  {
   "name": "None",
   "description": "",
   "help": ""
  }
 ],
 "rasterTypeInfos": [
  {
   "name": "Raster Dataset",
   "description": "Supports all ArcGIS Raster Datasets",
   "help": ""
  }
 ],
 "mensurationCapabilities": "Basic",
 "hasHistograms": true,
 "hasColormap": false,
 "hasRasterAttributeTable": false,
 "minScale": 0,
 "maxScale": 0,
 "exportTilesAllowed": false,
 "supportsStatistics": false,
 "supportsAdvancedQueries": false,
 "editFieldsInfo": null,
 "ownershipBasedAccessControlForRasters": null,
 "allowComputeTiePoints": false,
 "useStandardizedQueries": true,
 "advancedQueryCapabilities": {
  "useStandardizedQueries": true,
  "supportsStatistics": false,
  "supportsOrderBy": false,
  "supportsDistinct": false,
  "supportsPagination": false
 },
 "spatialReference": {
  "wkid": 102100,
  "latestWkid": 3857
 }
}
